BEGIN:VCALENDAR
VERSION:2.0
PRODID:-//ChamberMaster//Event Calendar 2.0//EN
METHOD:PUBLISH
X-PUBLISHED-TTL:P3D
REFRESH-INTERVAL:P3D
CALSCALE:GREGORIAN
BEGIN:VEVENT
DTSTART:20211127T200000Z
DTEND:20211127T213000Z
X-MICROSOFT-CDO-ALLDAYEVENT:FALSE
SUMMARY:Santa's River Boat Arrival & Small Business Saturday
DESCRIPTION:Santa will be disembarking off the boat and making his way in front of Taps Restaurant area for photo ops this year at 12pm . There will be carolers and Petaluma Pete to bring music into our ears . As well as dancers and possibly some treats to be had by local organizations. Come join the downtown for Small Business Saturday Shopping. Fill your stockings and under the tree this year with local goods\, to support your community as a whole.
X-ALT-DESC;FMTTYPE=text/html:Santa will be disembarking off the boat and making his way in front of Taps Restaurant area for photo ops this year at 12pm . There will be carolers and Petaluma Pete to bring music into our ears . As well as dancers and possibly some treats to be had by local organizations. Come join the downtown for Small Business Saturday Shopping. Fill your stockings and under the tree this year with local goods\, to support your community as a whole.
LOCATION:River Plaza
UID:e.1308.16367
SEQUENCE:3
DTSTAMP:20260422T013142Z
URL:https://business.petalumachamber.biz/events/details/santa-s-river-boat-arrival-small-business-saturday-16367
END:VEVENT

END:VCALENDAR
