BEGIN:VCALENDAR
VERSION:2.0
PRODID:-//ChamberMaster//Event Calendar 2.0//EN
METHOD:PUBLISH
X-PUBLISHED-TTL:P3D
REFRESH-INTERVAL:P3D
CALSCALE:GREGORIAN
BEGIN:VEVENT
DTSTART:20181124T193000Z
DTEND:20181124T220000Z
X-MICROSOFT-CDO-ALLDAYEVENT:FALSE
SUMMARY:Santa’s Riverboat Arrival
DESCRIPTION:Santa and Mrs. Claus sail in and disembark at River Plaza Shopping Center. Entertainment starts at 11:30am and Santa arrives at noon. He & the Mrs. hand out candy canes on the way to their "workshop." Stay to take photos with Santa and Mrs. Claus in front of Taps\; then join us for~ Small Business Saturday This Nov 24\, we want to share Small Business Saturday  with you! It's a holiday shopping tradition\, backed by American Express\, that celebrates small businesses like the ones in Historic Downtown Petaluma. And it wouldn't be a celebration without customers like you joining us. So mark your calendar for Nov 24th   the Saturday after Thanksgiving   and get ready to Shop Small  with us. Grab a friend or family member and come shop downtown on the big day. You can help get the word out and celebrate Small Business Saturday by using #ShopSmall on Facebook\, Instagram\, and all your social networks. Thank you for all your support\, and we'll see you Saturday\, Nov 24th! PETALUMA DOWNTOWN ASSOCIATION
X-ALT-DESC;FMTTYPE=text/html:Santa and Mrs. Claus sail in and disembark at River Plaza Shopping Center. Entertainment starts at 11:30am and Santa arrives at noon. He &amp\; the Mrs. hand out candy canes on the way to their &ldquo\;workshop.&rdquo\; Stay to take photos with Santa and Mrs. Claus in front of Taps\; then join us for~ Small Business Saturday This Nov 24\, we want to share Small Business Saturday&reg\; with you! It&#39\;s a holiday shopping tradition\, backed by American Express\, that celebrates small businesses like the ones in Historic Downtown Petaluma. And it wouldn&#39\;t be a celebration without customers like you joining us. So mark your calendar for Nov 24th &mdash\; the Saturday after Thanksgiving &mdash\; and get ready to Shop Small&reg\; with us. Grab a friend or family member and come shop downtown on the big day. You can help get the word out and celebrate Small Business Saturday by using #ShopSmall on Facebook\, Instagram\, and all your social networks. Thank you for all your support\, and we&#39\;ll see you Saturday\, Nov 24th! PETALUMA DOWNTOWN ASSOCIATION
LOCATION:River Plaza Shopping Center Washington Street
UID:e.1308.12807
SEQUENCE:3
DTSTAMP:20260419T131605Z
URL:https://business.petalumachamber.biz/events/details/santa-s-riverboat-arrival-11-24-2018-12807
END:VEVENT

END:VCALENDAR
