BEGIN:VCALENDAR
VERSION:2.0
PRODID:-//ChamberMaster//Event Calendar 2.0//EN
METHOD:PUBLISH
X-PUBLISHED-TTL:P3D
REFRESH-INTERVAL:P3D
CALSCALE:GREGORIAN
BEGIN:VEVENT
DTSTART:20191215T050000Z
DTEND:20191215T093000Z
X-MICROSOFT-CDO-ALLDAYEVENT:FALSE
SUMMARY:Santa's Workshop
DESCRIPTION:Come to Santa's Workshop Music-Dancing-Donating-Holiday Attire Support local foster and homeless children through Love in a Shoe Box Donate onsite or at www.loveinashoebox.com/donate Free to attend
X-ALT-DESC;FMTTYPE=text/html:Come to Santa&#39\;s Workshop Music-Dancing-Donating-Holiday Attire Support local foster and homeless children through Love in a Shoe Box Donate onsite or at www.loveinashoebox.com/donate Free to attend
LOCATION:Perch and Plow 96 Old Courthouse Square Santa Rosa\, CA 95404
UID:e.1308.13970
SEQUENCE:3
DTSTAMP:20260420T112153Z
URL:https://business.petalumachamber.biz/events/details/santa-s-workshop-12-14-2019-13970
END:VEVENT

END:VCALENDAR
