BEGIN:VCALENDAR
VERSION:2.0
PRODID:-//ChamberMaster//Event Calendar 2.0//EN
METHOD:PUBLISH
X-PUBLISHED-TTL:P3D
REFRESH-INTERVAL:P3D
CALSCALE:GREGORIAN
BEGIN:VEVENT
DTSTART:20191220T210000Z
DTEND:20191221T000000Z
X-MICROSOFT-CDO-ALLDAYEVENT:FALSE
SUMMARY:Santa’s Workshop
DESCRIPTION:Join us for holiday fun as we create bright and seasonal works of art for gift giving and decorating. We'll have 5-6 "Creation Stations" set up where we'll make cardboard gingerbread houses\, sponge printed Christmas trees\, tiny wooden villages\, collage Santas\, printed wrapping paper\, and shiny ornaments. Drop-off your child with a snack while you shop or join in on the fun to create delightful holiday memories.
X-ALT-DESC;FMTTYPE=text/html:Join us for holiday fun as we create bright and seasonal works of art for gift giving and decorating. We&rsquo\;ll have 5-6 &ldquo\;Creation Stations&rdquo\; set up where we&rsquo\;ll make cardboard gingerbread houses\, sponge printed Christmas trees\, tiny wooden villages\, collage Santas\, printed wrapping paper\, and shiny ornaments. Drop-off your child with a snack while you shop or join in on the fun to create delightful holiday memories.
LOCATION:Healdsburg Community Center 1557 Healdsburg Ave. Healdsburg\, CA 95448
UID:e.1308.13967
SEQUENCE:3
DTSTAMP:20260420T112106Z
URL:https://business.petalumachamber.biz/events/details/santa-s-workshop-13967
END:VEVENT

END:VCALENDAR
