BEGIN:VCALENDAR
VERSION:2.0
PRODID:-//ChamberMaster//Event Calendar 2.0//EN
METHOD:PUBLISH
X-PUBLISHED-TTL:P3D
REFRESH-INTERVAL:P3D
CALSCALE:GREGORIAN
BEGIN:VEVENT
DTSTART:20181104T020000Z
DTEND:20181104T060000Z
X-MICROSOFT-CDO-ALLDAYEVENT:FALSE
SUMMARY:“Saturday Night Fever” Museum Fundraiser Gala
DESCRIPTION:Dust off your boogie shoes and join us for flashback fun to celebrate 40 years of the PMA. We'll have tantalizing live and silent auctions\, food stations by Preferred Sonoma Catering\, beer & wine included and a no-host cocktail bar\, disco dancing with DJ Rosie and prizes for the best costume! Tickets are $60 for PMA members and $70 for non-members. Takes place at the Elks Lodge\, 2015 S. McDowell Blvd. Tickets available online   saturdaynightgala.brownpapertickets.com
X-ALT-DESC;FMTTYPE=text/html:Dust off your boogie shoes and join us for flashback fun to celebrate 40 years of the PMA. We&rsquo\;ll have tantalizing live and silent auctions\, food stations by Preferred Sonoma Catering\, beer &amp\; wine included and a no-host cocktail bar\, disco dancing with DJ Rosie and prizes for the best costume! Tickets are $60 for PMA members and $70 for non-members. Takes place at the Elks Lodge\, 2015 S. McDowell Blvd. Tickets available online &ndash\; saturdaynightgala.brownpapertickets.com
LOCATION:Elks Lodge 2015 S. McDowell Blvd. Petaluma\, CA 94952 United States
UID:e.1308.12798
SEQUENCE:3
DTSTAMP:20260419T130758Z
URL:https://business.petalumachamber.biz/events/details/saturday-night-fever-museum-fundraiser-gala-12798
END:VEVENT

END:VCALENDAR
