BEGIN:VCALENDAR
VERSION:2.0
PRODID:-//ChamberMaster//Event Calendar 2.0//EN
METHOD:PUBLISH
X-PUBLISHED-TTL:P3D
REFRESH-INTERVAL:P3D
CALSCALE:GREGORIAN
BEGIN:VEVENT
DTSTART:20191122T020000Z
DTEND:20191122T040000Z
X-MICROSOFT-CDO-ALLDAYEVENT:FALSE
SUMMARY:Scotch Pairing Fundraiser
DESCRIPTION:The Petaluma Museum Association invites your attendance at our upcoming Scotch Pairing\; this event will continue our tradition of bi-annual food and liquor pairings. In the recent past we have done tequila\, rum and scotch. The evening begins Thursday\, November 21 at 6:00 P.M. in the main hall of the Petaluma Historical Library & Museum. This classic historical site will create a perfect atmosphere for your enjoyment of a professionally guided tasting tour of single malt scotches (from Scotland)\, accompanied with notes and anecdotes on the spirits' related region and aging process. Each selected scotch will be accompanied by a plate specially prepared by Preferred Sonoma Caterers to complement that spirit. (See website for menu) This event is sponsored by Wilibees Wines & Spirits and Preferred Sonoma Caterers and is a fundraiser for the Museum. Ticket prices are $60 for Members & $75 for Non Members. Reservations: https://scotchpairing2019.brownpapertickets.com/ www.PetalumaMuseum.com
X-ALT-DESC;FMTTYPE=text/html:The Petaluma Museum Association invites your attendance at our upcoming Scotch Pairing\; this event will continue our tradition of bi-annual food and liquor pairings. In the recent past we have done tequila\, rum and scotch. The evening begins Thursday\, November 21 at 6:00 P.M. in the main hall of the Petaluma Historical Library &amp\; Museum. This classic historical site will create a perfect atmosphere for your enjoyment of a professionally guided tasting tour of single malt scotches (from Scotland)\, accompanied with notes and anecdotes on the spirits&rsquo\; related region and aging process. Each selected scotch will be accompanied by a plate specially prepared by Preferred Sonoma Caterers to complement that spirit. (See website for menu) This event is sponsored by Wilibees Wines &amp\; Spirits and Preferred Sonoma Caterers and is a fundraiser for the Museum. Ticket prices are $60 for Members &amp\; $75 for Non Members. Reservations: https://scotchpairing2019.brownpapertickets.com/ www.PetalumaMuseum.com
LOCATION:Petaluma Historical Library & Museum\, 20 Fourth St.\, Petaluma\, CA 94952
UID:e.1308.13956
SEQUENCE:3
DTSTAMP:20260420T093652Z
URL:https://business.petalumachamber.biz/events/details/scotch-pairing-fundraiser-13956
END:VEVENT

END:VCALENDAR
