BEGIN:VCALENDAR
VERSION:2.0
PRODID:-//ChamberMaster//Event Calendar 2.0//EN
METHOD:PUBLISH
X-PUBLISHED-TTL:P3D
REFRESH-INTERVAL:P3D
CALSCALE:GREGORIAN
BEGIN:VEVENT
DTSTART:20190302T220000Z
DTEND:20190303T010000Z
X-MICROSOFT-CDO-ALLDAYEVENT:FALSE
SUMMARY:Sip Petaluma at Keller St
DESCRIPTION:Join us for Sip Petaluma featuring a dozen premier wineries\, wonderful tidbits from Anaviv Catering & Events\, live music by Clay Bell and beautiful art work from local artists.
X-ALT-DESC;FMTTYPE=text/html:Join us for Sip Petaluma featuring a dozen premier wineries\, wonderful tidbits from Anaviv Catering &amp\; Events\, live music by Clay Bell and beautiful art work from local artists.
LOCATION:Keller Street CoWork 140 Keller St Petaluma\, CA 94952
UID:e.1308.12913
SEQUENCE:3
DTSTAMP:20260419T194100Z
URL:https://business.petalumachamber.biz/events/details/sip-petaluma-at-keller-st-12913
END:VEVENT

END:VCALENDAR
