BEGIN:VCALENDAR
VERSION:2.0
PRODID:-//ChamberMaster//Event Calendar 2.0//EN
METHOD:PUBLISH
X-PUBLISHED-TTL:P3D
REFRESH-INTERVAL:P3D
CALSCALE:GREGORIAN
BEGIN:VEVENT
DTSTART:20190622T210000Z
DTEND:20190623T000000Z
X-MICROSOFT-CDO-ALLDAYEVENT:FALSE
SUMMARY:Sip the Gap Wine Tasting Event
DESCRIPTION:Join us as we Sip the Gap on Saturday\, June 22nd from 2-5pm. We will be showcasing 10+ Petaluma Gap wineries\, with live music and local bites. From "Wind to Wine" enjoy tastings from the Petaluma Gap region!
X-ALT-DESC;FMTTYPE=text/html:Join us as we Sip the Gap on Saturday\, June 22nd from 2-5pm. We will be showcasing 10+ Petaluma Gap wineries\, with live music and local bites. From &ldquo\;Wind to Wine&rdquo\; enjoy tastings from the Petaluma Gap region!
LOCATION:Keller Street CoWork
UID:e.1308.13754
SEQUENCE:3
DTSTAMP:20260420T004241Z
URL:https://business.petalumachamber.biz/events/details/sip-the-gap-wine-tasting-event-13754
END:VEVENT

END:VCALENDAR
