BEGIN:VCALENDAR
VERSION:2.0
PRODID:-//ChamberMaster//Event Calendar 2.0//EN
METHOD:PUBLISH
X-PUBLISHED-TTL:P3D
REFRESH-INTERVAL:P3D
CALSCALE:GREGORIAN
BEGIN:VEVENT
DTSTART:20200210T000000Z
DTEND:20200210T050000Z
X-MICROSOFT-CDO-ALLDAYEVENT:FALSE
SUMMARY:SIXTH ANNUAL RED CARPET EVENING
DESCRIPTION:The Alexander Valley Film Society brings Hollywood glamour to Sonoma County with the Sixth Annual Red Carpet Evening\, a fundraising gala and celebration of the 92nd ACADEMY AWARDS . Guests will gather at TRENTADUE WINERY for an evening of film\, fashion\, food\, and fun\, featuring a red carpet entrance\, unique buy-in experiences\, and the OSCARS  on the big screen during an elegant seated dinner from chef Ken Rochioli. Proceeds from the event will support the Alexander Valley Film Society's educational and cultural programs.
X-ALT-DESC;FMTTYPE=text/html:The Alexander Valley Film Society brings Hollywood glamour to Sonoma County with the Sixth Annual Red Carpet Evening\, a fundraising gala and celebration of the 92nd ACADEMY AWARDS&reg\;. Guests will gather at TRENTADUE WINERY for an evening of film\, fashion\, food\, and fun\, featuring a red carpet entrance\, unique buy-in experiences\, and the OSCARS&reg\; on the big screen during an elegant seated dinner from chef Ken Rochioli.&nbsp\;Proceeds from the event will support the Alexander Valley Film Society&rsquo\;s educational and cultural programs.
LOCATION:Trentadue Winery\, 19170 Geyserville Ave\, Geyserville\, CA 95441
UID:e.1308.13980
SEQUENCE:3
DTSTAMP:20260420T143917Z
URL:https://business.petalumachamber.biz/events/details/sixth-annual-red-carpet-evening-13980
END:VEVENT

END:VCALENDAR
