BEGIN:VCALENDAR
VERSION:2.0
PRODID:-//ChamberMaster//Event Calendar 2.0//EN
METHOD:PUBLISH
X-PUBLISHED-TTL:P3D
REFRESH-INTERVAL:P3D
CALSCALE:GREGORIAN
BEGIN:VEVENT
DTSTART:20190428T143000Z
DTEND:20190428T173000Z
X-MICROSOFT-CDO-ALLDAYEVENT:FALSE
SUMMARY:SOMO Village and Codding Foundation Girls on the Run 5k
DESCRIPTION:Join us at SOMO Village for a celebratory run in beautiful Sonoma County! Our 5k event is the culmination of a 10-week course for our Girls on the Run! We invite you to join us for a fun-filled\, family-friendly event! This season's event will include DJ Music\, celebration table to get decorated for the run\, and our Friends and Family Zone!\n\nRegistration for this event helps support programs and scholarships for Girls on the Run Sonoma County! Thank you!
X-ALT-DESC;FMTTYPE=text/html:<h5>Join us at SOMO Village for a celebratory run in beautiful Sonoma County! Our 5k event is the culmination of a 10-week course for our Girls on the Run! We invite you to join us for a fun-filled\, family-friendly event! This season&#39\;s event will include DJ Music\, celebration table to get decorated for the run\, and our Friends and Family Zone!</h5>\n\n<h5>Registration for this event helps support programs and scholarships for Girls on the Run Sonoma County! Thank you!</h5>\n
LOCATION:1400 Valley House Dr Rohnert Park CA 94928
UID:e.1308.12935
SEQUENCE:3
DTSTAMP:20260419T211103Z
URL:https://business.petalumachamber.biz/events/details/somo-village-and-codding-foundation-girls-on-the-run-5k-12935
END:VEVENT

END:VCALENDAR
