BEGIN:VCALENDAR
VERSION:2.0
PRODID:-//ChamberMaster//Event Calendar 2.0//EN
METHOD:PUBLISH
X-PUBLISHED-TTL:P3D
REFRESH-INTERVAL:P3D
CALSCALE:GREGORIAN
BEGIN:VEVENT
DTSTART:20190321T013000Z
DTEND:20190321T033000Z
X-MICROSOFT-CDO-ALLDAYEVENT:FALSE
SUMMARY:Sonoma County Women in Conversation
DESCRIPTION:http://www.socowomenevents.com/
X-ALT-DESC;FMTTYPE=text/html:http://www.socowomenevents.com/
LOCATION:Luther Burbank Center of the Arts 50 Mark West Springs Road Santa Rosa\, CA 95403
UID:e.1308.12921
SEQUENCE:3
DTSTAMP:20260419T192948Z
URL:https://business.petalumachamber.biz/events/details/sonoma-county-women-in-conversation-12921
END:VEVENT

END:VCALENDAR
