BEGIN:VCALENDAR
VERSION:2.0
PRODID:-//ChamberMaster//Event Calendar 2.0//EN
METHOD:PUBLISH
X-PUBLISHED-TTL:P3D
REFRESH-INTERVAL:P3D
CALSCALE:GREGORIAN
BEGIN:VEVENT
DTSTART:20190222T003000Z
DTEND:20190222T020000Z
X-MICROSOFT-CDO-ALLDAYEVENT:FALSE
SUMMARY:Sonoma Fit Business After Hours
DESCRIPTION:Details Soon!
X-ALT-DESC;FMTTYPE=text/html:Details Soon!
LOCATION:90 Casa Grande Rd
UID:e.1308.12912
SEQUENCE:3
DTSTAMP:20260419T175752Z
URL:https://business.petalumachamber.biz/events/details/sonoma-fit-business-after-hours-12912
END:VEVENT

END:VCALENDAR
