BEGIN:VCALENDAR
VERSION:2.0
PRODID:-//ChamberMaster//Event Calendar 2.0//EN
METHOD:PUBLISH
X-PUBLISHED-TTL:P3D
REFRESH-INTERVAL:P3D
CALSCALE:GREGORIAN
BEGIN:VEVENT
DTSTART:20190326T220000Z
DTEND:20190327T010000Z
X-MICROSOFT-CDO-ALLDAYEVENT:FALSE
SUMMARY:Sonoma Job Connections
DESCRIPTION:MAKE YOUR CAREER MOVE Sonoma Job Connections is a Job Fair + Career Development Lab For Job Seekers -Face-to-face interviews with hiring managers -Free professional headshots for LinkedIn profile -Free professional advice on resumes\, cover letters -Entry-level and advanced positions! Career Development Sessions -Improve LinkedIn profiles and networking -Prepare for career transition -Know your career options -Understand your value in today's workplace climate -Drop-in sessions Register today and reserve your FREE spot. Prize drawings\, refreshments and so much more! www.sonomajobconnections.com Sponsored by: Star Staffing\, Leap Solutions\, and Empire College Register today for your chance to meet these companies! First American Home Warranty Manzana Products Co.\, Inc E & J Gallo Winery Hyatt Regency Redwood Credit Union Soniacornia/Bay Respite Care Hansel Auto Group Fairmont Sonoma Mission Inn and Spa Star Staffing - Sponsor Sonoma County Sheriff's Office River Rock Casino Cross-Check La Tortilla Factory Tekberry Leap Solutions - Sponsor Empire College - Sponsor Redwood Building Maintenance Nelson Staffing PBHS Sonoma County Office of Education Summit State Bank
X-ALT-DESC;FMTTYPE=text/html:MAKE YOUR CAREER MOVE Sonoma Job Connections is a Job Fair + Career Development Lab For Job Seekers -Face-to-face interviews with hiring managers -Free professional headshots for LinkedIn profile -Free professional advice on resumes\, cover letters -Entry-level and advanced positions! Career Development Sessions -Improve LinkedIn profiles and networking -Prepare for career transition -Know your career options -Understand your value in today&rsquo\;s workplace climate -Drop-in sessions Register today and reserve your FREE spot. Prize drawings\, refreshments and so much more! www.sonomajobconnections.com Sponsored by: Star Staffing\, Leap Solutions\, and Empire College Register today for your chance to meet these companies! First American Home Warranty Manzana Products Co.\, Inc E &amp\; J Gallo Winery Hyatt Regency Redwood Credit Union Soniacornia/Bay Respite Care Hansel Auto Group Fairmont Sonoma Mission Inn and Spa Star Staffing - Sponsor Sonoma County Sheriff&#39\;s Office River Rock Casino Cross-Check La Tortilla Factory Tekberry Leap Solutions - Sponsor Empire College - Sponsor Redwood Building Maintenance Nelson Staffing PBHS Sonoma County Office of Education Summit State Bank
LOCATION:DoubleTree by Hilton Hotel Sonoma Wine Country 1 DoubleTree Drive Rohnert Park\, CA 94928
UID:e.1308.12942
SEQUENCE:3
DTSTAMP:20260419T194107Z
URL:https://business.petalumachamber.biz/events/details/sonoma-job-connections-12942
END:VEVENT

END:VCALENDAR
