BEGIN:VCALENDAR
VERSION:2.0
PRODID:-//ChamberMaster//Event Calendar 2.0//EN
METHOD:PUBLISH
X-PUBLISHED-TTL:P3D
REFRESH-INTERVAL:P3D
CALSCALE:GREGORIAN
BEGIN:VEVENT
DTSTART:20190821T220000Z
DTEND:20190822T010000Z
X-MICROSOFT-CDO-ALLDAYEVENT:FALSE
SUMMARY:Sonoma Valley Job Connections
DESCRIPTION:MAKE YOUR CAREER MOVE Sonoma Valley Job Connections Job Fair -Face-to-face interviews with hiring managers -Free professional headshots for LinkedIn profile -Free professional advice on resumes\, cover letters -Entry-level and advanced positions! Register today and reserve your FREE spot. Prize drawings\, networking and so much more!
X-ALT-DESC;FMTTYPE=text/html:MAKE YOUR CAREER MOVE Sonoma Valley Job Connections Job Fair -Face-to-face interviews with hiring managers -Free professional headshots for LinkedIn profile -Free professional advice on resumes\, cover letters -Entry-level and advanced positions! Register today and reserve your FREE spot. Prize drawings\, networking and so much more!
LOCATION:Sonoma Veterans Memorial Building
UID:e.1308.13782
SEQUENCE:3
DTSTAMP:20260420T041943Z
URL:https://business.petalumachamber.biz/events/details/sonoma-valley-job-connections-13782
END:VEVENT

END:VCALENDAR
