BEGIN:VCALENDAR
VERSION:2.0
PRODID:-//ChamberMaster//Event Calendar 2.0//EN
METHOD:PUBLISH
X-PUBLISHED-TTL:P3D
REFRESH-INTERVAL:P3D
CALSCALE:GREGORIAN
BEGIN:VEVENT
DTSTART:20190727T170000Z
DTEND:20190728T230000Z
X-MICROSOFT-CDO-ALLDAYEVENT:FALSE
SUMMARY:Spontaneous Clay Workshop
DESCRIPTION:An introduction to paper clay and iron oxide surfaces Sculptor\, Michele Collier\, will lead the exploration the evocative power of figurative sculpture using slabs of PAPERCLAY. We will leave behind the hinderances of regular clay and break a few rules as we let our creativity soar. Experienced artists will learn new skills and beginners will feel comfortable using this hybrid clay for the first time. Please visit our website for more information. https://healdsburgcenterforthearts.org
X-ALT-DESC;FMTTYPE=text/html:An introduction to paper clay and iron oxide surfaces Sculptor\, Michele Collier\, will lead the exploration the evocative power of figurative sculpture using slabs of PAPERCLAY. We will leave behind the hinderances of regular clay and break a few rules as we let our creativity soar. Experienced artists will learn new skills and beginners will feel comfortable using this hybrid clay for the first time. Please visit our website for more information. https://healdsburgcenterforthearts.org
LOCATION:1557 Healdsburg Ave. Healdsburg
UID:e.1308.13768
SEQUENCE:3
DTSTAMP:20260420T023147Z
URL:https://business.petalumachamber.biz/events/details/spontaneous-clay-workshop-13768
END:VEVENT

END:VCALENDAR
