BEGIN:VCALENDAR
VERSION:2.0
PRODID:-//ChamberMaster//Event Calendar 2.0//EN
METHOD:PUBLISH
X-PUBLISHED-TTL:P3D
REFRESH-INTERVAL:P3D
CALSCALE:GREGORIAN
BEGIN:VEVENT
DTSTART:20190404T233000Z
DTEND:20190405T010000Z
X-MICROSOFT-CDO-ALLDAYEVENT:FALSE
SUMMARY:Stefano's Pizza Business After Hours
DESCRIPTION:Join us for a Business After Hours event and Ribbon Cutting Ceremony welcoming Stefano's Pizza to their 6th location and first in Petaluma! \n\n\n\n\n\nPizza and Refreshments Served!
X-ALT-DESC;FMTTYPE=text/html:<span style="color: rgb(29\, 33\, 41)\; font-family: Helvetica\, Arial\, sans-serif\; font-size: 14px\; white-space: pre-wrap\;">Join us for a Business After Hours event and Ribbon Cutting Ceremony welcoming Stefano&#39\;s Pizza to their 6th location and first in Petaluma! </span><br style="color: rgb(29\, 33\, 41)\; font-family: Helvetica\, Arial\, sans-serif\; font-size: 14px\; white-space: pre-wrap\;" />\n<br style="color: rgb(29\, 33\, 41)\; font-family: Helvetica\, Arial\, sans-serif\; font-size: 14px\; white-space: pre-wrap\;" />\n<br style="color: rgb(29\, 33\, 41)\; font-family: Helvetica\, Arial\, sans-serif\; font-size: 14px\; white-space: pre-wrap\;" />\n<span style="color: rgb(29\, 33\, 41)\; font-family: Helvetica\, Arial\, sans-serif\; font-size: 14px\; white-space: pre-wrap\;">Pizza and Refreshments Served!</span>
LOCATION:5 Petaluma Blvd S\, Suite D
UID:e.1308.12961
SEQUENCE:3
DTSTAMP:20260419T211618Z
URL:https://business.petalumachamber.biz/events/details/stefano-s-pizza-business-after-hours-12961
END:VEVENT

END:VCALENDAR
