BEGIN:VCALENDAR
VERSION:2.0
PRODID:-//ChamberMaster//Event Calendar 2.0//EN
METHOD:PUBLISH
X-PUBLISHED-TTL:P3D
REFRESH-INTERVAL:P3D
CALSCALE:GREGORIAN
BEGIN:VEVENT
DTSTART:20190703T200000Z
DTEND:20190809T230000Z
X-MICROSOFT-CDO-ALLDAYEVENT:FALSE
SUMMARY:Summer Art Camp
DESCRIPTION:JUNE 17   AUGUST 9 Your child's creativity will blossom with Healdsburg Center for the Art's four-day Summer Art Camp sessions and Fun Art Fridays. Each week brings new and exciting creative options for ages 5   8 and 9   15! Students explore media ranging from assemblage to sculpture and many in between.
X-ALT-DESC;FMTTYPE=text/html:JUNE 17 &ndash\; AUGUST 9 Your child&rsquo\;s creativity will blossom with Healdsburg Center for the Art&rsquo\;s four-day Summer Art Camp sessions and Fun Art Fridays. Each week brings new and exciting creative options for ages 5 &ndash\; 8 and 9 &ndash\; 15! Students explore media ranging from assemblage to sculpture and many in between.
LOCATION:Various locations
UID:e.1308.13765
SEQUENCE:3
DTSTAMP:20260420T023145Z
URL:https://business.petalumachamber.biz/events/details/summer-art-camp-13765
END:VEVENT

END:VCALENDAR
