BEGIN:VCALENDAR
VERSION:2.0
PRODID:-//ChamberMaster//Event Calendar 2.0//EN
METHOD:PUBLISH
X-PUBLISHED-TTL:P3D
REFRESH-INTERVAL:P3D
CALSCALE:GREGORIAN
BEGIN:VEVENT
DTSTART:20220222T163000Z
DTEND:20220222T190000Z
X-MICROSOFT-CDO-ALLDAYEVENT:FALSE
SUMMARY:The 29th Annual North Bay Business Journal's Economic Outlook Summit In Partnership with Sonoma State University
DESCRIPTION:The North Bay's original and most comprehensive economic forecast. Partnered with Sonoma State University\, this annual conference will provide the premier economic outlook for the North Bay\, including regional\, statewide and international analysis. Robert Eyler\, Ph.D. Eyler is a professor at Sonoma State University and director of SSU's Center for Regional Economic Analysis. He will deliver his annual North Bay forecast. More speakers to be announced... Continental breakfast included.
X-ALT-DESC;FMTTYPE=text/html:The North Bay&#39\;s original and most comprehensive economic forecast. Partnered with Sonoma State University\, this annual conference will provide the premier economic outlook for the North Bay\, including regional\, statewide and international analysis. Robert Eyler\, Ph.D. Eyler is a professor at Sonoma State University and director of SSU&#39\;s Center for Regional Economic Analysis. He will deliver his annual North Bay forecast. More speakers to be announced... Continental breakfast included.
LOCATION:Sonoma State University's Student Center
UID:e.1308.16376
SEQUENCE:3
DTSTAMP:20260422T065141Z
URL:https://business.petalumachamber.biz/events/details/the-29th-annual-north-bay-business-journal-s-economic-outlook-summit-in-partnership-with-sonoma-state-university-16376
END:VEVENT

END:VCALENDAR
