BEGIN:VCALENDAR
VERSION:2.0
PRODID:-//ChamberMaster//Event Calendar 2.0//EN
METHOD:PUBLISH
X-PUBLISHED-TTL:P3D
REFRESH-INTERVAL:P3D
CALSCALE:GREGORIAN
BEGIN:VEVENT
DTSTART:20190928T200000Z
DTEND:20190928T230000Z
X-MICROSOFT-CDO-ALLDAYEVENT:FALSE
SUMMARY:The Adventure Pinot
DESCRIPTION:The Adventure of a Lifetime. Virginia Dare Winery is hosting the 1st Adventure Pinot\, showcasing all things Pinot from the Family Coppola. Explore our portfolio at 6 different wine stations   Virginia Dare\, Domaine de Broglie\, Francis Coppola Reserve\, Director's Cut and Director's\, Diamond\, Sofia\, and Votre Sante. Like what you're tasting? In addition to Pinots\, sample delectable food from the Family Coppola restaurants Caf  Zoetrope\, Rustic\, and our very own Wero. A souvenir wine glass is included with your ticket\, and each of the wines will be available for purchase in our pop-up Pinot Store with a special day of discount!
X-ALT-DESC;FMTTYPE=text/html:The Adventure of a Lifetime. Virginia Dare Winery is hosting the 1st Adventure Pinot\, showcasing all things Pinot from the Family Coppola. Explore our portfolio at 6 different wine stations &ndash\; Virginia Dare\, Domaine de Broglie\, Francis Coppola Reserve\, Director&rsquo\;s Cut and Director&rsquo\;s\, Diamond\, Sofia\, and Votre Sante. Like what you&rsquo\;re tasting? In addition to Pinots\, sample delectable food from the Family Coppola restaurants Caf&eacute\; Zoetrope\, Rustic\, and our very own Wero. A souvenir wine glass is included with your ticket\, and each of the wines will be available for purchase in our pop-up Pinot Store with a special day of discount!
LOCATION:Virginia Dare Winery\, 22281 Chianti Rd\, Geyserville\, CA 95441
UID:e.1308.13798
SEQUENCE:3
DTSTAMP:20260420T060749Z
URL:https://business.petalumachamber.biz/events/details/the-adventure-pinot-13798
END:VEVENT

END:VCALENDAR
