BEGIN:VCALENDAR
VERSION:2.0
PRODID:-//ChamberMaster//Event Calendar 2.0//EN
METHOD:PUBLISH
X-PUBLISHED-TTL:P3D
REFRESH-INTERVAL:P3D
CALSCALE:GREGORIAN
BEGIN:VEVENT
DTSTART;VALUE=DATE:20190915
DTEND;VALUE=DATE:20190916
TRANSP:TRANSPARENT
X-MICROSOFT-CDO-ALLDAYEVENT:TRUE
SUMMARY:The Chamber goes to STAR WARS day at the SF Giants!
DESCRIPTION:Don't miss your chance to join the Petaluma Area Chamber of Commerce trip to the Giants vs the Marlins where the Oracle Park will be having a day theme of\n\n\n\nSTAR WARS \n\non September 15th!\n\n\n\nWe will be taking  a private bus to and from Petaluma to the Giants Game where you can enjoy snacks and drinks (both ways!). Enjoy the game from the Press Club section and get a $35 voucher for food and concessions at the park for only $175 a ticket! \n\n\n\nSeats are extremely limited\, don't miss this opportunity to purchase tickets and join us on this fun filled day! Payment is due at the time of booking and all sales are final. Tickets sold on a first come\, first serve basis. Don't miss out on this special opportunity and call today! 707-762-2785
X-ALT-DESC;FMTTYPE=text/html:<span style="font-size:14px\;">Don't miss your chance to join the Petaluma Area Chamber of Commerce trip to the Giants vs the Marlins where the Oracle Park will be having a day theme of</span><br>\n<br>\n<em><strong><span style="font-size:26px\;">STAR WARS&nbsp\;<br>\n<span style="font-size:20px\;">on September 15th!</span></span></strong></em><br>\n<br>\nWe will be taking&nbsp\; a private bus to and from Petaluma to the Giants Game where you can enjoy snacks and drinks (both ways!). Enjoy the game from the Press Club section&nbsp\;<em>and</em>&nbsp\;get a $35 voucher for food and concessions at the park for only&nbsp\;<em><strong>$175 a ticket!&nbsp\;</strong></em><br>\n<br>\nSeats are extremely limited\, don't miss this opportunity to purchase tickets and join us on this fun filled day! Payment is due at the time of booking and all sales are final. Tickets sold on a first come\, first serve basis. Don't miss out on this special opportunity and call today! 707-762-2785
LOCATION:Leaving Petaluma Fairgrounds parking lot on our private bus 10:30am to the 1:05 game!
UID:e.1308.13789
SEQUENCE:3
DTSTAMP:20260420T061522Z
URL:https://business.petalumachamber.biz/events/details/the-chamber-goes-to-star-wars-day-at-the-sf-giants-13789
END:VEVENT

END:VCALENDAR
