BEGIN:VCALENDAR
VERSION:2.0
PRODID:-//ChamberMaster//Event Calendar 2.0//EN
METHOD:PUBLISH
X-PUBLISHED-TTL:P3D
REFRESH-INTERVAL:P3D
CALSCALE:GREGORIAN
BEGIN:VEVENT
DTSTART:20200228T000000Z
DTEND:20200228T010000Z
X-MICROSOFT-CDO-ALLDAYEVENT:FALSE
SUMMARY:The Creative Spark Book Launch
DESCRIPTION:Join Keller St CoWork for a book reading and Q&A of Michael Shapiro's newest book\, The Creative Spark. Stay after for a community Happy Hour and the book will be available for purchase!
X-ALT-DESC;FMTTYPE=text/html:Join Keller St CoWork for a book reading and Q&amp\;A of Michael Shapiro&#39\;s newest book\, The Creative Spark. Stay after for a community Happy Hour and the book will be available for purchase!
LOCATION:Keller St CoWork 140 Keller St Petaluma CA
UID:e.1308.14060
SEQUENCE:3
DTSTAMP:20260420T143418Z
URL:https://business.petalumachamber.biz/events/details/the-creative-spark-book-launch-14060
END:VEVENT

END:VCALENDAR
