BEGIN:VCALENDAR
VERSION:2.0
PRODID:-//ChamberMaster//Event Calendar 2.0//EN
METHOD:PUBLISH
X-PUBLISHED-TTL:P3D
REFRESH-INTERVAL:P3D
CALSCALE:GREGORIAN
BEGIN:VEVENT
DTSTART:20190119T023000Z
DTEND:20190119T050000Z
X-MICROSOFT-CDO-ALLDAYEVENT:FALSE
SUMMARY:The Crossword Show with Zach Sherwin
DESCRIPTION:A smart\, one-of-a-kind show in which comedians solve a crossword puzzle live onstage in front of an audience. There's music. There's comedy. There's trivia. There's nothing like it! With Bethany Van Delft (The Moth)\, Francesca Fiorentini (Newsbroke\, The Bitchuation Room podcast) and Natasha Muse (2 Dope Queens) and hosted by Zach Sherwin (Epic Rap Battles of History\, Crazy Ex-Girlfriend).
X-ALT-DESC;FMTTYPE=text/html:A smart\, one-of-a-kind show in which comedians solve a crossword puzzle live onstage in front of an audience. There&#39\;s music. There&#39\;s comedy. There&#39\;s trivia. There&#39\;s nothing like it! With Bethany Van Delft (The Moth)\, Francesca Fiorentini (Newsbroke\, The Bitchuation Room podcast) and Natasha Muse (2 Dope Queens) and hosted by Zach Sherwin (Epic Rap Battles of History\, Crazy Ex-Girlfriend).
LOCATION:Keller Street CoWork 140 Keller St Petaluma\, CA 94952
UID:e.1308.12892
SEQUENCE:3
DTSTAMP:20260419T161630Z
URL:https://business.petalumachamber.biz/events/details/the-crossword-show-with-zach-sherwin-12892
END:VEVENT

END:VCALENDAR
