BEGIN:VCALENDAR
VERSION:2.0
PRODID:-//ChamberMaster//Event Calendar 2.0//EN
METHOD:PUBLISH
X-PUBLISHED-TTL:P3D
REFRESH-INTERVAL:P3D
CALSCALE:GREGORIAN
BEGIN:VEVENT
DTSTART:20190901T000000Z
DTEND:20190921T000000Z
X-MICROSOFT-CDO-ALLDAYEVENT:FALSE
SUMMARY:The Great Outdoors-Call for Artists
DESCRIPTION:The Great Outdoors   visions and impressions of our world: over\, under\, beyond and through! HCA invites artists far and wide to submit work in all media including\, but not limited to: painting\, drawing\, multi-media\, sculpture\, photography\, printmaking\, art glass\, ceramics\, fiber art\, video. Digital and video artists must supply their own displays. Only original works will be accepted. No giclees or limited edition prints. IMPORTANT DATES Exhibition: August 31   September 20\, 2019 Opening Reception: Saturday\, August 31\, 5:00 to 7:00 PM Closing Tea & Artist Salon: Sunday\, September 20\, 11:00AM to 5:00PM Applications Close: July 1\, 2019 Notification of Jury Results: July 15\, 2019 Delivery of work: August 26   27
X-ALT-DESC;FMTTYPE=text/html:The Great Outdoors &ndash\; visions and impressions of our world: over\, under\, beyond and through! HCA invites artists far and wide to submit work in all media including\, but not limited to: painting\, drawing\, multi-media\, sculpture\, photography\, printmaking\, art glass\, ceramics\, fiber art\, video. Digital and video artists must supply their own displays. Only original works will be accepted. No giclees or limited edition prints. IMPORTANT DATES Exhibition: August 31 &ndash\; September 20\, 2019 Opening Reception: Saturday\, August 31\, 5:00 to 7:00 PM Closing Tea &amp\; Artist Salon: Sunday\, September 20\, 11:00AM to 5:00PM Applications Close: July 1\, 2019 Notification of Jury Results: July 15\, 2019 Delivery of work: August 26 &ndash\; 27
LOCATION:Healdsburg Center for the Arts 130 Plaza St Healdsburg
UID:e.1308.13753
SEQUENCE:3
DTSTAMP:20260420T041847Z
URL:https://business.petalumachamber.biz/events/details/the-great-outdoors-call-for-artists-13753
END:VEVENT

END:VCALENDAR
