BEGIN:VCALENDAR
VERSION:2.0
PRODID:-//ChamberMaster//Event Calendar 2.0//EN
METHOD:PUBLISH
X-PUBLISHED-TTL:P3D
REFRESH-INTERVAL:P3D
CALSCALE:GREGORIAN
BEGIN:VEVENT
DTSTART;VALUE=DATE:20200723
DTEND;VALUE=DATE:20200726
TRANSP:TRANSPARENT
X-MICROSOFT-CDO-ALLDAYEVENT:TRUE
SUMMARY:The Great Summer Sidewalk Sale
DESCRIPTION:The Great Summer Sidewalk Sale couldn't come at a better time! Please join us July 23-25 as we commemorate the reopening of Downtown Petaluma and support our local merchants. Taking place all over Downtown Petaluma\, participating locations will include the Theatre District\, Kentucky Street\, Western Avenue\, Petaluma Boulevard\, B Street\, Fourth Street and Washington Street! Participating merchants will be offering a variety of deals to encourage our community to shop and support local. Merchants can sign up here: https://form.jotform.com/petalumadowntown/sidewalk-sale
X-ALT-DESC;FMTTYPE=text/html:The Great Summer Sidewalk Sale couldn&#39\;t come at a better time! Please join us July 23-25 as we commemorate the reopening of Downtown Petaluma and support our local merchants. Taking place all over Downtown Petaluma\, participating locations will include the Theatre District\, Kentucky Street\, Western Avenue\, Petaluma Boulevard\, B Street\, Fourth Street and Washington Street! Participating merchants will be offering a variety of deals to encourage our community to shop and support local. Merchants can sign up here: https://form.jotform.com/petalumadowntown/sidewalk-sale
LOCATION:
UID:e.1308.14096
SEQUENCE:3
DTSTAMP:20260420T224933Z
URL:https://business.petalumachamber.biz/events/details/the-great-summer-sidewalk-sale-14096
END:VEVENT

END:VCALENDAR
