BEGIN:VCALENDAR
VERSION:2.0
PRODID:-//ChamberMaster//Event Calendar 2.0//EN
METHOD:PUBLISH
X-PUBLISHED-TTL:P3D
REFRESH-INTERVAL:P3D
CALSCALE:GREGORIAN
BEGIN:VEVENT
DTSTART:20190330T160000Z
DTEND:20190330T200000Z
X-MICROSOFT-CDO-ALLDAYEVENT:FALSE
SUMMARY:The Yes We Can Plan! - Anne Marie Sebastiani
DESCRIPTION:Are you ready to step into your vision of Ultimate Business Success with a plan and support that you love\, a business that prospers and the confidence to step up take daily inspired action to finally play big?\n\nIf you answered YES\, then this event is for you!\n\nThis will be a powerful gathering of dynamic players where together we will....\n\nCreate EMPOWERING GOALS that anchor you for success.  \n\nDevelop a POWERFUL ACTION PLAN that brings your vision and goals into reality.  \n\nUpgrade your skills to PRIORITIZE your focus and take CONSISTENT action with an inspiring DAILY action routine.  \n\nOPTIMIZE your environment with a consistent plan\, support\, accountability\, and perspective. \n\nEXPAND your PSYCHOLOGY and break limiting beliefs & that lil' inner voice of self doubt.  \n\nThis event is like no other and held in beautiful downtown Petaluma at the wonderful Keller Street Coworking space.  Event includes workbook\, all materials\, and a light snack.  \n\nLet's do this!
X-ALT-DESC;FMTTYPE=text/html:<span style="color:rgb(32\, 33\, 36)\; font-family:roboto\,arial\,sans-serif\; font-size:16px">Are you ready to step into your vision of Ultimate Business Success with a plan and support that you love\, a business that prospers and the confidence to step up take daily inspired action to finally play big?<br />\nIf you answered YES\, then this event is for you!<br />\nThis will be a powerful gathering of dynamic players where together we will....<br />\nCreate EMPOWERING GOALS that anchor you for success.&nbsp\;&nbsp\;<br />\nDevelop a POWERFUL ACTION PLAN that brings your vision and goals into reality.&nbsp\;&nbsp\;<br />\nUpgrade your skills to PRIORITIZE your focus and take CONSISTENT action with an inspiring DAILY action routine.&nbsp\;&nbsp\;<br />\nOPTIMIZE your environment with a consistent plan\, support\, accountability\, and perspective.&nbsp\;<br />\nEXPAND your PSYCHOLOGY and break limiting beliefs &amp\; that lil&#39\; inner voice of self doubt.&nbsp\;&nbsp\;<br />\nThis event is like no other and held in beautiful downtown Petaluma at the wonderful Keller Street Coworking space.&nbsp\; Event includes workbook\, all materials\, and a light snack.&nbsp\;&nbsp\;<br />\nLet&#39\;s do this!</span>
LOCATION:Keller Street Cowork
UID:e.1308.12955
SEQUENCE:3
DTSTAMP:20260419T193058Z
URL:https://business.petalumachamber.biz/events/details/the-yes-we-can-plan-anne-marie-sebastiani-12955
END:VEVENT

END:VCALENDAR
