BEGIN:VCALENDAR
VERSION:2.0
PRODID:-//ChamberMaster//Event Calendar 2.0//EN
METHOD:PUBLISH
X-PUBLISHED-TTL:P3D
REFRESH-INTERVAL:P3D
CALSCALE:GREGORIAN
BEGIN:VEVENT
DTSTART:20191207T033000Z
DTEND:20191209T000000Z
X-MICROSOFT-CDO-ALLDAYEVENT:FALSE
SUMMARY:Transcendence’s Broadway Holiday Spectacular
DESCRIPTION:Title: Transcendence's Broadway Holiday Spectacular Description: Join Transcendence\, the award-winning creators of "Broadway Under the Stars\," for this Broadway-style holiday celebration for all ages\, with performers from Broadway shows such as MAMMA MIA!\, MARY POPPINS\, WICKED\, and more. LOCATIONS: Luther Burbank Center for the Arts 50 Mark West Springs Road\, Santa Rosa\, CA 95403   December 6 @ 7:30pm (Fri)   December 7 @ 2pm & 7:30pm (Sat)   December 8 @ 2pm (Sun) Lincoln Theater (Napa Valley) 100 California Drive\, Yountville\, CA 94599   December 14 @ 2pm (Sat)   December 14 @ 7:30pm (Sat)   December 15 @ 2pm (Sun) VIDEO: https://www.youtube.com/watch?v=6URSuoxIZXI COST: $39-$139 VIP. $5 Early Bird discount available before November 1. Youth and Group prices available. WEBSITE LINK: BroadwayHolidayShow.com Phone: 877 424-1414
X-ALT-DESC;FMTTYPE=text/html:Title: Transcendence&rsquo\;s Broadway Holiday Spectacular Description: Join Transcendence\, the award-winning creators of &quot\;Broadway Under the Stars\,&quot\; for this Broadway-style holiday celebration for all ages\, with performers from Broadway shows such as MAMMA MIA!\, MARY POPPINS\, WICKED\, and more. LOCATIONS: Luther Burbank Center for the Arts 50 Mark West Springs Road\, Santa Rosa\, CA 95403 &bull\; December 6 @ 7:30pm (Fri) &bull\; December 7 @ 2pm &amp\; 7:30pm (Sat) &bull\; December 8 @ 2pm (Sun) Lincoln Theater (Napa Valley) 100 California Drive\, Yountville\, CA 94599 &bull\; December 14 @ 2pm (Sat) &bull\; December 14 @ 7:30pm (Sat) &bull\; December 15 @ 2pm (Sun) VIDEO: https://www.youtube.com/watch?v=6URSuoxIZXI COST: $39-$139 VIP. $5 Early Bird discount available before November 1. Youth and Group prices available. WEBSITE LINK: BroadwayHolidayShow.com Phone: 877 424-1414
LOCATION:Luther Burbank Center for the Arts
UID:e.1308.13946
SEQUENCE:3
DTSTAMP:20260420T112231Z
URL:https://business.petalumachamber.biz/events/details/transcendence-s-broadway-holiday-spectacular-13946
END:VEVENT

END:VCALENDAR
