BEGIN:VCALENDAR
VERSION:2.0
PRODID:-//ChamberMaster//Event Calendar 2.0//EN
METHOD:PUBLISH
X-PUBLISHED-TTL:P3D
REFRESH-INTERVAL:P3D
CALSCALE:GREGORIAN
BEGIN:VEVENT
DTSTART:20190511T160000Z
DTEND:20190511T230000Z
X-MICROSOFT-CDO-ALLDAYEVENT:FALSE
SUMMARY:Transhumance Festival
DESCRIPTION:Friends is partnering with True Grass Farms once again to bring this utterly unique event to Petaluma and Steamer Landing Park. Join us in celebrating our local agriculture as we bring it to our city center with speakers\, educational booths with local land managers\, a lunch feast of seasonal foods and more. We'll start by herding a local sheep flock through town\, ending at Steamer Landing Park with a celebration of Petaluma's agriculture. Learn more about the event and purchase tickets at sassyandgrassy.com
X-ALT-DESC;FMTTYPE=text/html:Friends is partnering with True Grass Farms once again to bring this utterly unique event to Petaluma and Steamer Landing Park. Join us in celebrating our local agriculture as we bring it to our city center with speakers\, educational booths with local land managers\, a lunch feast of seasonal foods and more. We&rsquo\;ll start by herding a local sheep flock through town\, ending at Steamer Landing Park with a celebration of Petaluma&rsquo\;s agriculture. Learn more about the event and purchase tickets at sassyandgrassy.com
LOCATION:Steamer Landing Park 6 Copeland St Petaluma\, Ca. 94952
UID:e.1308.13482
SEQUENCE:3
DTSTAMP:20260419T230102Z
URL:https://business.petalumachamber.biz/events/details/transhumance-festival-13482
END:VEVENT

END:VCALENDAR
