BEGIN:VCALENDAR
VERSION:2.0
PRODID:-//ChamberMaster//Event Calendar 2.0//EN
METHOD:PUBLISH
X-PUBLISHED-TTL:P3D
REFRESH-INTERVAL:P3D
CALSCALE:GREGORIAN
BEGIN:VEVENT
DTSTART:20190425T013000Z
DTEND:20190425T023000Z
X-MICROSOFT-CDO-ALLDAYEVENT:FALSE
SUMMARY:Treasure the Late Light Group Walk
DESCRIPTION:Late afternoon light is a special time of day. The arc of the sun brings softness to the feel of the day. Walking with local women at this time of day offers extraordinary light and connection. Come walk with us.
X-ALT-DESC;FMTTYPE=text/html:Late afternoon light is a special time of day. The arc of the sun brings softness to the feel of the day. Walking with local women at this time of day offers extraordinary light and connection. Come walk with us.
LOCATION:Shollenberger Park Petaluma
UID:e.1308.12958
SEQUENCE:3
DTSTAMP:20260419T210646Z
URL:https://business.petalumachamber.biz/events/details/treasure-the-late-light-group-walk-12958
END:VEVENT

END:VCALENDAR
