BEGIN:VCALENDAR
VERSION:2.0
PRODID:-//ChamberMaster//Event Calendar 2.0//EN
METHOD:PUBLISH
X-PUBLISHED-TTL:P3D
REFRESH-INTERVAL:P3D
CALSCALE:GREGORIAN
BEGIN:VEVENT
DTSTART:20190111T000000Z
DTEND:20190111T010000Z
X-MICROSOFT-CDO-ALLDAYEVENT:FALSE
SUMMARY:Treasure the Twilight - Group Walk
DESCRIPTION:Treasure the Twilight with local women. This is the perfect opportunity to soak in the subtle yet profound change of light\, while experiencing nature and connection as our group walks together in mindful silence and conversation.
X-ALT-DESC;FMTTYPE=text/html:Treasure the Twilight with local women. This is the perfect opportunity to soak in the subtle yet profound change of light\, while experiencing nature and connection as our group walks together in mindful silence and conversation.
LOCATION:Shollenberger Park
UID:e.1308.12904
SEQUENCE:3
DTSTAMP:20260419T161336Z
URL:https://business.petalumachamber.biz/events/details/treasure-the-twilight-group-walk-01-10-2019-12904
END:VEVENT

END:VCALENDAR
