BEGIN:VCALENDAR
VERSION:2.0
PRODID:-//ChamberMaster//Event Calendar 2.0//EN
METHOD:PUBLISH
X-PUBLISHED-TTL:P3D
REFRESH-INTERVAL:P3D
CALSCALE:GREGORIAN
BEGIN:VEVENT
DTSTART:20190207T003000Z
DTEND:20190207T013000Z
X-MICROSOFT-CDO-ALLDAYEVENT:FALSE
SUMMARY:Treasure the Twilight - Group Walk
DESCRIPTION:Wednesday\, February 6\, 4:30 pm Treasure the Twilight with local women. This is the perfect opportunity to steep in the subtle and profound transition of light\, while experiencing nature and connection with our group as we walk together in mindful silence and conversation. The best way to complete your day!
X-ALT-DESC;FMTTYPE=text/html:Wednesday\, February 6\, 4:30 pm Treasure the Twilight with local women. This is the perfect opportunity to steep in the subtle and profound transition of light\, while experiencing nature and connection with our group as we walk together in mindful silence and conversation. The best way to complete your day!
LOCATION:Shollenberger Park\, Petaluma
UID:e.1308.12923
SEQUENCE:3
DTSTAMP:20260419T175029Z
URL:https://business.petalumachamber.biz/events/details/treasure-the-twilight-group-walk-02-06-2019-12923
END:VEVENT

END:VCALENDAR
