BEGIN:VCALENDAR
VERSION:2.0
PRODID:-//ChamberMaster//Event Calendar 2.0//EN
METHOD:PUBLISH
X-PUBLISHED-TTL:P3D
REFRESH-INTERVAL:P3D
CALSCALE:GREGORIAN
BEGIN:VEVENT
DTSTART:20181108T000000Z
DTEND:20181108T010000Z
X-MICROSOFT-CDO-ALLDAYEVENT:FALSE
SUMMARY:Treasure the Twilight - Group Walk
DESCRIPTION:November 7 4 pm Shollenberger PaRK The light this time of year is lusciously soft which makes late afternoon walking at Shollenberger Park a treat for your senses. Relax into the evening quiet\, soothed by birdsong\, as we keep step with the rhythm of the outdoors\; small groups of local women. Walks include silence and some mindful conversation. This is a special time for quiet\, listening to the earth and connecting with your beautiful self. To Rsvp or more details: https://womenwalking.net/walks/list
X-ALT-DESC;FMTTYPE=text/html:November 7 4 pm Shollenberger PaRK The light this time of year is lusciously soft which makes late afternoon walking at Shollenberger Park a treat for your senses. Relax into the evening quiet\, soothed by birdsong\, as we keep step with the rhythm of the outdoors\; small groups of local women. Walks include silence and some mindful conversation. This is a special time for quiet\, listening to the earth and connecting with your beautiful self. To Rsvp or more details: https://womenwalking.net/walks/list
LOCATION:Shollenberger Park Petaluma
UID:e.1308.12821
SEQUENCE:3
DTSTAMP:20260419T130135Z
URL:https://business.petalumachamber.biz/events/details/treasure-the-twilight-group-walk-12821
END:VEVENT

END:VCALENDAR
