BEGIN:VCALENDAR
VERSION:2.0
PRODID:-//ChamberMaster//Event Calendar 2.0//EN
METHOD:PUBLISH
X-PUBLISHED-TTL:P3D
REFRESH-INTERVAL:P3D
CALSCALE:GREGORIAN
BEGIN:VEVENT
DTSTART:20191201T013000Z
DTEND:20191201T033000Z
X-MICROSOFT-CDO-ALLDAYEVENT:FALSE
SUMMARY:Tree Lighting Ceremony
DESCRIPTION:Basin Street Properties and the Petaluma Downtown Association invite you to join us for the annual Tree Lighting Ceremony at Theater Square. Enjoy live piano with Petaluma Pete and the jolly presence of Santa Claus all while embracing the magic of the annual Tree Lighting Ceremony!
X-ALT-DESC;FMTTYPE=text/html:Basin Street Properties and the Petaluma Downtown Association invite you to join us for the annual Tree Lighting Ceremony at Theater Square. Enjoy live piano with Petaluma Pete and the jolly presence of Santa Claus all while embracing the magic of the annual Tree Lighting Ceremony!
LOCATION:Theater Square
UID:e.1308.13950
SEQUENCE:3
DTSTAMP:20260420T093644Z
URL:https://business.petalumachamber.biz/events/details/tree-lighting-ceremony-13950
END:VEVENT

END:VCALENDAR
