BEGIN:VCALENDAR
VERSION:2.0
PRODID:-//ChamberMaster//Event Calendar 2.0//EN
METHOD:PUBLISH
X-PUBLISHED-TTL:P3D
REFRESH-INTERVAL:P3D
CALSCALE:GREGORIAN
BEGIN:VEVENT
DTSTART:20191212T013000Z
DTEND:20191212T040000Z
X-MICROSOFT-CDO-ALLDAYEVENT:FALSE
SUMMARY:Ugly Sweater Party
DESCRIPTION:Hello! We're the new kids on the block and we want to invite all of our new friends and neighbors over for a meet-and-greet. We want to make it fun and festive so we're calling it a "ugly sweater party' but you're welcome even if your sweater isn't ugly.\n\nOur friend Nicole at Satyre Wines will be pouring some delicious wines.\n\nWe really want to meet you\, so come by!!
X-ALT-DESC;FMTTYPE=text/html:Hello! We&#39\;re the new kids on the block and we want to invite all of our new friends and neighbors over for a meet-and-greet. We want to make it fun and festive so we&#39\;re calling it a &quot\;ugly sweater party&#39\; but you&#39\;re welcome even if your sweater isn&#39\;t ugly.<br />\nOur friend Nicole at Satyre Wines will be pouring some delicious wines.<br />\nWe really want to meet you\, so come by!!
LOCATION:Boho Bungalow 143 Kentucky Street Petaluma Ca 94952
UID:e.1308.13971
SEQUENCE:3
DTSTAMP:20260420T112410Z
URL:https://business.petalumachamber.biz/events/details/ugly-sweater-party-12-11-2019-13971
END:VEVENT

END:VCALENDAR
