BEGIN:VCALENDAR
VERSION:2.0
PRODID:-//ChamberMaster//Event Calendar 2.0//EN
METHOD:PUBLISH
X-PUBLISHED-TTL:P3D
REFRESH-INTERVAL:P3D
CALSCALE:GREGORIAN
BEGIN:VEVENT
DTSTART:20191107T030000Z
DTEND:20191107T050000Z
X-MICROSOFT-CDO-ALLDAYEVENT:FALSE
SUMMARY:USAF Band of the Golden West FREE Concert
DESCRIPTION:Free performance by the U.S. Air Force Band of the Golden West! Join us as we perform exciting music\, honor our veterans\, and tell the Air Force story. We hope to see you there!
X-ALT-DESC;FMTTYPE=text/html:Free performance by the U.S. Air Force Band of the Golden West! Join us as we perform exciting music\, honor our veterans\, and tell the Air Force story. We hope to see you there!
LOCATION:Petaluma Veterans Building 1094 Petaluma Boulding South Petaluma\, CA 94952
UID:e.1308.13947
SEQUENCE:3
DTSTAMP:20260420T094523Z
URL:https://business.petalumachamber.biz/events/details/usaf-band-of-the-golden-west-free-concert-13947
END:VEVENT

END:VCALENDAR
