BEGIN:VCALENDAR
VERSION:2.0
PRODID:-//ChamberMaster//Event Calendar 2.0//EN
METHOD:PUBLISH
X-PUBLISHED-TTL:P3D
REFRESH-INTERVAL:P3D
CALSCALE:GREGORIAN
BEGIN:VEVENT
DTSTART:20210426T000000Z
DTEND:20210426T030000Z
X-MICROSOFT-CDO-ALLDAYEVENT:FALSE
SUMMARY:Virtual Trivia Night with Local Beer
DESCRIPTION:Enjoy a night of Trivia while sipping on HenHouse\, Bear Republic & Lagunitas beer! Open to San Francisco North Bay residents/or anyone who will pick up their beer in Petaluma. Must be 21 or older to participate. $40 per person\, each person will receive a total of 4 beers compliments of HenHouse\, Bear Republic & Lagunitas. (while supplies last) Form a trivia team (any number of people can be a team)\, enjoy local brews\, and compete for a case of beer (24 - 16 oz cans) from HenHouse\, Lagunitas or Bear Republic in Petaluma. Please pick up your beer at 15 Cleveland Lane\, Petaluma on Saturday April 24 from 10:00 am to 6:00 pm\, and Sunday April 25 from 10:00 am to 3:00 pm. Call Vanessa Garrett at 530 906-3950 to arrange pick up. Call Therese Crutcher-Marin at 530 906-8415 to arrange delivery. Delivery only by prearranged circumstances.
X-ALT-DESC;FMTTYPE=text/html:Enjoy a night of Trivia while sipping on HenHouse\, Bear Republic &amp\; Lagunitas beer! Open to San Francisco North Bay residents/or anyone who will pick up their beer in Petaluma. Must be 21 or older to participate. $40 per person\, each person will receive a total of 4 beers compliments of HenHouse\, Bear Republic &amp\; Lagunitas. (while supplies last) Form a trivia team (any number of people can be a team)\, enjoy local brews\, and compete for a case of beer (24 - 16 oz cans) from HenHouse\, Lagunitas or Bear Republic in Petaluma. Please pick up your beer at 15 Cleveland Lane\, Petaluma on Saturday April 24 from 10:00 am to 6:00 pm\, and Sunday April 25 from 10:00 am to 3:00 pm. Call Vanessa Garrett at 530 906-3950 to arrange pick up. Call Therese Crutcher-Marin at 530 906-8415 to arrange delivery. Delivery only by prearranged circumstances.
LOCATION:Virtual. Pick up beer at 15 Cleveland Lane Petaluma
UID:e.1308.14130
SEQUENCE:3
DTSTAMP:20260421T132956Z
URL:https://business.petalumachamber.biz/events/details/virtual-trivia-night-with-local-beer-14130
END:VEVENT

END:VCALENDAR
