BEGIN:VCALENDAR
VERSION:2.0
PRODID:-//ChamberMaster//Event Calendar 2.0//EN
METHOD:PUBLISH
X-PUBLISHED-TTL:P3D
REFRESH-INTERVAL:P3D
CALSCALE:GREGORIAN
BEGIN:VEVENT
DTSTART:20190227T023000Z
DTEND:20190227T043000Z
X-MICROSOFT-CDO-ALLDAYEVENT:FALSE
SUMMARY:Vision Board Workshop
DESCRIPTION:For many of us\, this is the time we are ready to bring our attention to upgrade our business\, take it to the next level\, and create a powerful vision of a joyful and prosperous business for 2019! Does this sound like you? Then please join us at the inspiring work space of Keller Street CoWork for this Vision Board workshop! Where together we will: =  Bring your bold business DREAM to life through a unique vision board experience. =  Reveal the CATALYST for your business success. =  Discover your next steps to ACHIEVE the joy\, prosperity and success you deserve. =  CONNECT & collaborate with other business owners and creative experts. =  Toast with a glass & have FUN! OPTIONAL: Bring 3-4 magazines you may have around that may have inspiring images and ideas for your board.
X-ALT-DESC;FMTTYPE=text/html:For many of us\, this is the time we are ready to bring our attention to upgrade our business\, take it to the next level\, and create a powerful vision of a joyful and prosperous business for 2019! Does this sound like you? Then please join us at the inspiring work space of Keller Street CoWork for this Vision Board workshop! Where together we will: =&gt\; Bring your bold business DREAM to life through a unique vision board experience. =&gt\; Reveal the CATALYST for your business success. =&gt\; Discover your next steps to ACHIEVE the joy\, prosperity and success you deserve. =&gt\; CONNECT &amp\; collaborate with other business owners and creative experts. =&gt\; Toast with a glass &amp\; have FUN! OPTIONAL: Bring 3-4 magazines you may have around that may have inspiring images and ideas for your board.
LOCATION:Keller Street Cowork 140 Keller St Petaluma\, CA 94952
UID:e.1308.12938
SEQUENCE:3
DTSTAMP:20260419T174956Z
URL:https://business.petalumachamber.biz/events/details/vision-board-workshop-12938
END:VEVENT

END:VCALENDAR
