BEGIN:VCALENDAR
VERSION:2.0
PRODID:-//ChamberMaster//Event Calendar 2.0//EN
METHOD:PUBLISH
X-PUBLISHED-TTL:P3D
REFRESH-INTERVAL:P3D
CALSCALE:GREGORIAN
BEGIN:VEVENT
DTSTART:20181107T023000Z
DTEND:20181107T043000Z
X-MICROSOFT-CDO-ALLDAYEVENT:FALSE
SUMMARY:Vision Board Workshop With Anne Marie Sebastiani
DESCRIPTION:Are you ready to upgrade your business\, take it to the next level and create a vision of a joyful and prosperous business?\n\nIf you answered yes then this workshop is for you!\n\nPlease join us at the inspiring new workspace of Keller Street CoWork for this Vision Board experience where together we will:\n\n-Bring your bold business DREAM to life through a unique vision board experience.\n\n-Reveal the CATALYST for your business success.\n\n-Discover your next steps to ACHIEVE the joy\, prosperity and success you deserve.\n\n-CONNECT & collaborate with other business owners and creative experts.\n\n-Toast with a glass & have FUN!
X-ALT-DESC;FMTTYPE=text/html:<p>Are you ready to upgrade your business\, take it to the next level and create a vision of a joyful and prosperous business?</p>\n\n<p>If you answered yes then this workshop is for you!</p>\n\n<p>Please join us at the inspiring&nbsp\;new workspace of Keller Street CoWork for this Vision Board experience&nbsp\;where together we will:</p>\n\n<p>-Bring your bold business DREAM to life through a unique vision board experience.</p>\n\n<p>-Reveal the CATALYST for your business success.</p>\n\n<p>-Discover your next steps to ACHIEVE the joy\, prosperity and&nbsp\;success you deserve.</p>\n\n<p>-CONNECT &amp\; collaborate with other business owners and creative experts.</p>\n\n<p>-Toast with a glass &amp\; have FUN!</p>\n
LOCATION:Keller Street CoWork 140 Keller Street
UID:e.1308.12819
SEQUENCE:3
DTSTAMP:20260419T130243Z
URL:https://business.petalumachamber.biz/events/details/vision-board-workshop-with-anne-marie-sebastiani-12819
END:VEVENT

END:VCALENDAR
