BEGIN:VCALENDAR
VERSION:2.0
PRODID:-//ChamberMaster//Event Calendar 2.0//EN
METHOD:PUBLISH
X-PUBLISHED-TTL:P3D
REFRESH-INTERVAL:P3D
CALSCALE:GREGORIAN
BEGIN:VEVENT
DTSTART:20200211T210000Z
DTEND:20200212T000000Z
X-MICROSOFT-CDO-ALLDAYEVENT:FALSE
SUMMARY:Volunteer Driver Trainiing
DESCRIPTION:Drivers are one of our most popular volunteer positions and most requested service. Drivers are deeply appreciated by our members who can no longer drive themselves. There is no minimum time commitment. To RSVP call 707-776-6055\, or email info@villagenetworkofpetaluma.org.
X-ALT-DESC;FMTTYPE=text/html:<span style="color:black\; font-family:helvetica\; font-size:14pt">Drivers are one of our most popular volunteer positions and most requested service. Drivers are deeply appreciated by our members who can no longer drive themselves. There is no minimum time commitment.&nbsp\;To RSVP call 707-776-6055\, or email&nbsp\;</span><span style="color:rgb(19\, 116\, 31)\; font-family:helvetica\; font-size:14pt"><u><span style="color:mediumblue">info@villagenetworkofpetaluma.org</span></u>.</span><br />\n&nbsp\;
LOCATION:Village Network office\, 410 D St. (on Methodist Church campus)\, Petaluma
UID:e.1308.14054
SEQUENCE:3
DTSTAMP:20260420T143424Z
URL:https://business.petalumachamber.biz/events/details/volunteer-driver-trainiing-14054
END:VEVENT

END:VCALENDAR
