BEGIN:VCALENDAR
VERSION:2.0
PRODID:-//ChamberMaster//Event Calendar 2.0//EN
METHOD:PUBLISH
X-PUBLISHED-TTL:P3D
REFRESH-INTERVAL:P3D
CALSCALE:GREGORIAN
BEGIN:VEVENT
DTSTART:20200224T210000Z
DTEND:20200225T000000Z
X-MICROSOFT-CDO-ALLDAYEVENT:FALSE
SUMMARY:Volunteer Orientation - Village Network
DESCRIPTION:New Volunteer Orientation   Do you have a resolution to volunteer for a great community program?\n\nJoin us Monday\,February 24 for an orientation to volunteering for the Village Network of Petaluma  1- 4:00 p.m.\n\nNew location - Village Network Community Room. 410 D St. (at 5th) in the Methodist Church. \n\nThe Village Network of Petaluma is a vibrant community of members and volunteers dedicated to supporting each other as we age. \n\nOur members are 50+ but anyone over the age of 21 is welcome to volunteer. Drivers are one of our most popular volunteer positions.  \n\nWe  also have volunteer positions availablein our Office\, and our Technology\, Friendly Visiting and  Program\, teams. Please call the Village office for more information. Most of our volunteer positions are flexible and do not require having a set schedule. Volunteering is a great way to meet new friends and enrich your life and the lives of others!
X-ALT-DESC;FMTTYPE=text/html:<strong><u><span style="background-color:transparent\; color:rgb(29\, 34\, 40)"><span style="background-color:transparent\; font-family:calibri"><span style="background-color:transparent\; font-size:10pt">New Volunteer Orientation &ndash\; Do you have a resolution to volunteer for a great community program?</span></span></span></u></strong><br />\nJoin us Monday\,February 24&nbsp\;for an orientation to volunteering for the&nbsp\;<strong>Village Network of Petaluma&nbsp\;&nbsp\;</strong><span style="background-color:transparent\; color:rgb(29\, 34\, 40)\; font-family:arial\,helvetica\,sans-serif\; font-size:12px"><span style="background-color:transparent\; font-family:calibri"><span style="background-color:transparent\; font-size:10pt">1- 4:00 p.m.</span></span></span><br />\n<span style="background-color:transparent\; color:rgb(29\, 34\, 40)\; font-family:arial\,helvetica\,sans-serif\; font-size:12px"><span style="background-color:transparent\; font-family:calibri"><span style="background-color:transparent\; font-size:10pt">New location - Village Network Community Room. 410 D St. (at 5<span style="background-color:transparent\; font-size:13.333332061767578px">th</span>) in the Methodist Church.&nbsp\;</span></span></span><br />\n<span style="background-color:transparent\; color:rgb(29\, 34\, 40)\; font-family:arial\,helvetica\,sans-serif\; font-size:12px"><span style="background-color:transparent\; font-family:calibri"><span style="background-color:transparent\; font-size:10pt">The Village Network of Petaluma is a vibrant community of members and volunteers dedicated to supporting each other as we age.&nbsp\;<br />\nOur members are 50+ but anyone over the age of 21 is welcome to volunteer.&nbsp\;Drivers are one of our most popular volunteer positions.&nbsp\;&nbsp\;<br />\nWe &nbsp\;also have volunteer positions availablein our&nbsp\;Office\,&nbsp\;and our Technology\, Friendly Visiting and&nbsp\;&nbsp\;Program\, teams. Please call the Village office for more information. Most of our volunteer positions are flexible and do not require having a set schedule. Volunteering is a great way to meet new friends and enrich your life and the lives of others!&nbsp\;</span></span></span>
LOCATION:Village Network Community Room. 410 D St. (at 5th) in the Methodist Church.
UID:e.1308.13995
SEQUENCE:3
DTSTAMP:20260420T144755Z
URL:https://business.petalumachamber.biz/events/details/volunteer-orientation-villae-network-13995
END:VEVENT

END:VCALENDAR
