BEGIN:VCALENDAR
VERSION:2.0
PRODID:-//ChamberMaster//Event Calendar 2.0//EN
METHOD:PUBLISH
X-PUBLISHED-TTL:P3D
REFRESH-INTERVAL:P3D
CALSCALE:GREGORIAN
BEGIN:VEVENT
DTSTART:20220413T200000Z
DTEND:20220413T213000Z
X-MICROSOFT-CDO-ALLDAYEVENT:FALSE
SUMMARY:Volunteers Needed - Intro Trainings
DESCRIPTION:VOLUNTEERS NEEDED!\n\nVolunteers are at the heart of our organization and our efforts to re-imagine aging and\n\ncommunity. If someone you know might be a good fit for us\, please let them know we need their help and encourage them to volunteer!\n\n We especially need people for:\n\n	HANDY PEOPLE   help with simple jobs around the house from changing light bulbs and hanging pictures to sorting paperwork\, unpacking\, and de-cluttering.\n	NEWSLETTER TEAM   love to write? Help draft\, edit\, and distribute our monthly newsletter and twice-monthly e-blasts to keep members in-the-know about social and program offerings.\n	EVENTS & PROGRAMS   enjoy planning events and parties? This team helps source guest speakers for monthly educational\, social\, and cultural events that benefit every community member.\n	OFFICE SUPPORT   several opportunities including calling members\, answering emails\, and working in our database.\n	TECH TEAM   for those who are tech savvy\, members need help with their computers\, tablets or iPads\, cell phones\, or printers. Be a star and help them navigate technology!\n	MORE opportunities available! Join our intro training to learn additional info!!\n\nOur next Introductory Volunteer Trainings are on Wednesday\, April 13\, 1:00   2:30 OR Tuesday\, April 19\, 10:30   12:00 They are an opportunity to learn more with no obligation. Call 707-776-6055 or email info@villagenetworkofpetaluma.org  Or you can register online here
X-ALT-DESC;FMTTYPE=text/html:<strong><span style="color:#C00000"><span style="font-family:comic sans ms"><span style="font-size:14.0pt">VOLUNTEERS NEEDED!</span></span></span></strong><br />\n<span style="font-family:arial\,sans-serif"><span style="font-size:12.0pt">Volunteers are at the heart of our organization and our efforts to re-imagine aging and</span></span><br />\n<span style="font-family:arial\,sans-serif"><span style="font-size:12.0pt">community.<span style="color:#7030A0"> <strong>If someone you know might be a good fit for us\, please let them know we need their help and encourage them to volunteer!</strong></span></span></span><br />\n<span style="font-family:arial\,sans-serif"><span style="font-size:12.0pt">&nbsp\;We especially need people for:</span></span>\n<ul>\n	<li><span style="font-family:arial\,sans-serif">HANDY PEOPLE &ndash\; help with simple jobs around the house from changing light bulbs and hanging pictures to sorting paperwork\, unpacking\, and de-cluttering.</span></li>\n	<li><span style="font-family:arial\,sans-serif">NEWSLETTER TEAM &ndash\; love to write? Help draft\, edit\, and distribute our monthly newsletter and twice-monthly e-blasts to keep members in-the-know about social and program offerings.</span></li>\n	<li><span style="font-family:arial\,sans-serif">EVENTS &amp\; PROGRAMS &ndash\;&nbsp\;</span><span style="color:windowtext"><span style="font-family:arial\,sans-serif">enjoy </span></span><span style="font-family:arial\,sans-serif">planning events and parties? This team helps source guest speakers for monthly educational\, social\, and cultural events that benefit every community member.</span></li>\n	<li><span style="font-family:arial\,sans-serif">OFFICE SUPPORT &ndash\;&nbsp\;</span><span style="color:windowtext"><span style="font-family:arial\,sans-serif">several opportunities including calling members\, answering emails\, and working in our database.</span></span></li>\n	<li><span style="font-family:arial\,sans-serif">TECH TEAM &ndash\; for those who are tech savvy\, members need help with their computers\, tablets or iPads\, cell phones\, or printers. Be a star and help them navigate technology!</span></li>\n	<li><span style="font-family:arial\,sans-serif">MORE opportunities available! Join our intro training to learn additional info!!</span></li>\n</ul>\n<strong><span style="font-family:arial\,sans-serif"><span style="font-size:12.0pt">Our next Introductory Volunteer Trainings are on Wednesday\, April 13\, 1:00 &ndash\; 2:30 OR Tuesday\, April 19\, 10:30 &ndash\; 12:00 </span></span></strong><span style="font-family:arial\,sans-serif"><span style="font-size:12.0pt">They are an opportunity to learn more with no obligation. </span></span><span style="font-family:arial\,sans-serif"><span style="font-size:12.0pt">Call 707-776-6055 or email </span></span><span style="font-family:arial\,sans-serif"><span style="font-size:12.0pt"><a href="mailto:info@villagenetworkofpetaluma.org">info@villagenetworkofpetaluma.org</a> &nbsp\;Or you can register online </span></span><a href="https://petaluma.helpfulvillage.com/events"><span style="font-family:arial\,sans-serif"><span style="font-size:12.0pt">here</span></span></a><br />\n&nbsp\;
LOCATION:Zoom Event
UID:e.1308.16539
SEQUENCE:3
DTSTAMP:20260422T095832Z
URL:https://business.petalumachamber.biz/events/details/volunteers-needed-intro-trainings-04-13-2022-16539
END:VEVENT

END:VCALENDAR
