BEGIN:VCALENDAR
VERSION:2.0
PRODID:-//ChamberMaster//Event Calendar 2.0//EN
METHOD:PUBLISH
X-PUBLISHED-TTL:P3D
REFRESH-INTERVAL:P3D
CALSCALE:GREGORIAN
BEGIN:VEVENT
DTSTART:20220209T210000Z
DTEND:20220209T223000Z
X-MICROSOFT-CDO-ALLDAYEVENT:FALSE
SUMMARY:Volunteers Needed - Intro Trainings
DESCRIPTION:ATTN PETALUMA-PENNGROVE RESIDENTS\n\n \n\nWE LOVE OUR VOLUNTEERS!  \n\nThe Village Network of Petaluma (VNP) is a nonprofit membership organization led by active adults 50+ in the Petaluma-Penngrove area. We're part of a nationwide movement harnessing the wisdom of today's older adults to revolutionize the experience of aging.\n\n \n\nVolunteering with The Village Network of Petaluma provides a great opportunity to stay connected while giving back and supporting older adults in our community. We depend on more than 100 volunteers to assist with our many weekly and monthly programs. \n\n \n\nYOU ARE NEEDED!\n\nVolunteers are at the heart of our organization You can help with what interests you most  whether it's direct service helping members with everyday needs  or working "behind the scenes" to support Village operations. We especially need:\n\n	HANDY PEOPLE   help with simple jobs around the house from changing light bulbs and hanging pictures to sorting paperwork\, unpacking\, and decluttering.\n	NEWSLETTER TEAM   love to write? Help draft\, edit\, and distribute our monthly newsletter and twice-monthly e-blasts to keep members in-the-know about social and program offerings.\n	EVENTS & PROGRAMS   enjoy planning events and parties? This team helps source guest speakers for monthly educational\, social\, and cultural events that benefit every community member.\n	OFFICE SUPPORT   several opportunities including calling members\, answering emails\, and working in our database.\n\nTo learn more about volunteering for the Village\, please attend our Volunteer Intro Training on\n\nFeb. 9th from 1:00   2:30  Register Online Here\n\nFeb. 15th from 10:30   12:00 Register Online Here\n\n \n\n"I love volunteering for the Village as I have been able to customize the time I spend to my own needs. Interacting with many of the members\, and other volunteers\, who are interesting & interested people is pure gravy."   Carol L.\n\n \n\nCONTACT US\n\nTo learn more about Village Network of Petaluma please contact us at: info.villagenetworkofpetaluma.org  \n\nOr call 707-776-6055
X-ALT-DESC;FMTTYPE=text/html:<span style="color:black"><span style="font-family:arial\,sans-serif">ATTN PETALUMA-PENNGROVE&nbsp\;RESIDENTS</span></span><br />\n&nbsp\;<br />\n<span style="color:black"><span style="font-family:arial\,sans-serif">WE LOVE OUR VOLUNTEERS! </span></span>&nbsp\;<br />\n<span style="color:#101010"><span style="font-family:arial\,sans-serif">The Village Network of Petaluma (VNP) is a nonprofit membership organization led by active adults 50+ in the Petaluma-Penngrove area. We&rsquo\;re part of a nationwide movement harnessing the wisdom of today&rsquo\;s older adults to revolutionize the experience of aging.</span></span><br />\n&nbsp\;<br />\n<span style="color:black"><span style="font-family:arial\,sans-serif">Volunteering with&nbsp\;The Village Network of Petaluma provides a great opportunity to stay connected while giving back and supporting older adults in our community. We depend on more than 100 volunteers to assist with our many weekly and monthly programs. </span></span><br />\n&nbsp\;<br />\n<span style="color:black"><span style="font-family:arial\,sans-serif">YOU ARE NEEDED!</span></span><br />\n<span style="color:black"><span style="font-family:arial\,sans-serif">Volunteers are at the heart of our organization You </span></span><span style="font-family:arial\,sans-serif">can <span style="color:black">help with what interests you most&hellip\; whether it&rsquo\;s direct service </span>helping <span style="color:black">members with everyday needs&hellip\; or working &ldquo\;behind the scenes&rdquo\; to support Village operations. We especially need:</span></span>\n<ul>\n	<li><span style="font-family:arial\,sans-serif">HANDY PEOPLE &ndash\; help with simple jobs around the house from changing light bulbs and hanging pictures to sorting paperwork\, unpacking\, and decluttering.</span></li>\n	<li><span style="font-family:arial\,sans-serif">NEWSLETTER TEAM &ndash\; love to write? Help draft\, edit\, and distribute our monthly newsletter and twice-monthly e-blasts to keep members in-the-know about social and program offerings.</span></li>\n	<li><span style="font-family:arial\,sans-serif">EVENTS &amp\; PROGRAMS &ndash\;&nbsp\;</span><span style="color:windowtext"><span style="font-family:arial\,sans-serif">enjoy </span></span><span style="font-family:arial\,sans-serif">planning events and parties? This team helps source guest speakers for monthly educational\, social\, and cultural events that benefit every community member.</span></li>\n	<li><span style="font-family:arial\,sans-serif">OFFICE SUPPORT &ndash\;&nbsp\;</span><span style="color:windowtext"><span style="font-family:arial\,sans-serif">several opportunities including calling members\, answering emails\, and working in our database.</span></span></li>\n</ul>\n<span style="font-family:arial\,sans-serif">To learn more about volunteering for the Village\, please attend our <span style="color:black">Volunteer Intro Training on<br />\nFeb. 9<sup>th</sup> from 1:00 &ndash\; 2:30&nbsp\; </span></span><a href="https://petaluma.helpfulvillage.com/events/1487"><span style="font-family:arial\,sans-serif">Register Online Here</span></a><br />\n<span style="color:windowtext"><span style="font-family:arial\,sans-serif">Feb. 15<sup>th</sup> from 10:30 &ndash\; 12:00 <a href="https://petaluma.helpfulvillage.com/events/1611">Register Online Here</a></span></span><br />\n&nbsp\;<br />\n<span style="color:black"><span style="font-family:arial\,sans-serif">&ldquo\;</span></span><em><span style="color:#222222"><span style="font-family:arial\,sans-serif">I love volunteering for the Village as I have been able to customize the time I spend to my own needs. Interacting with many of the members\, and other volunteers\, who are interesting &amp\; interested people is pure gravy.&rdquo\;</span></span></em><span style="color:#222222"><span style="font-family:arial\,sans-serif"> &ndash\; Carol L.</span></span><br />\n&nbsp\;<br />\n<span style="color:black"><span style="font-family:arial\,sans-serif">CONTACT US</span></span><br />\n<span style="color:black"><span style="font-family:arial\,sans-serif">To learn more about Village Network of Petaluma please contact us at: </span></span><a href="mailto:info@villagenetworkofpetaluma.org"><span style="font-family:arial\,sans-serif">info.villagenetworkofpetaluma.org </span></a>&nbsp\;<br />\n<span style="font-family:arial\,sans-serif">Or call 707-776-6055</span><br />\n<br />\n&nbsp\;
LOCATION:Online
UID:e.1308.16383
SEQUENCE:3
DTSTAMP:20260422T064855Z
URL:https://business.petalumachamber.biz/events/details/volunteers-needed-intro-trainings-16383
END:VEVENT

END:VCALENDAR
