BEGIN:VCALENDAR
VERSION:2.0
PRODID:-//ChamberMaster//Event Calendar 2.0//EN
METHOD:PUBLISH
X-PUBLISHED-TTL:P3D
REFRESH-INTERVAL:P3D
CALSCALE:GREGORIAN
BEGIN:VEVENT
DTSTART:20190323T180000Z
DTEND:20190323T190000Z
X-MICROSOFT-CDO-ALLDAYEVENT:FALSE
SUMMARY:Welcome to the Village - info mtg.
DESCRIPTION:Learn more about how Village members and volunteers share skills\, support\, fun\, and friendship with one another to navigate the opportunities and transitions of aging. Together we're expanding choices at all stages of aging. Learn about our new Associate Memberships for those who wish to participate fully in the Village community but do not need volunteer services. Associate Memberships are $30/month for individuals and $45/month for households of two or more. Founded in 2014\, we're one of 250+ villages nationwide\, part of a groundbreaking approach to create vibrant\, active\, and connected lives. Bring a friend\, get your questions answered\, and meet Village members and volunteers. Learn about aging better together!
X-ALT-DESC;FMTTYPE=text/html:Learn more about how Village members and volunteers share skills\, support\, fun\, and friendship with one another to navigate the opportunities and transitions of aging. Together we&#39\;re expanding choices at all stages of aging. Learn about our new Associate Memberships for those who wish to participate fully in the Village community but do not need volunteer services. Associate Memberships are $30/month for individuals and $45/month for households of two or more. Founded in 2014\, we&#39\;re one of 250+ villages nationwide\, part of a groundbreaking approach to create vibrant\, active\, and connected lives. Bring a friend\, get your questions answered\, and meet Village members and volunteers. Learn about aging better together!
LOCATION:Village Network office\, 955 Petaluma Blvd. South\, Petaluma
UID:e.1308.12907
SEQUENCE:3
DTSTAMP:20260419T193500Z
URL:https://business.petalumachamber.biz/events/details/welcome-to-the-village-info-mtg-03-23-2019-12907
END:VEVENT

END:VCALENDAR
