BEGIN:VCALENDAR
VERSION:2.0
PRODID:-//ChamberMaster//Event Calendar 2.0//EN
METHOD:PUBLISH
X-PUBLISHED-TTL:P3D
REFRESH-INTERVAL:P3D
CALSCALE:GREGORIAN
BEGIN:VEVENT
DTSTART:20211003T000000Z
DTEND:20211003T050000Z
X-MICROSOFT-CDO-ALLDAYEVENT:FALSE
SUMMARY:Western Night
DESCRIPTION:Come see what Elks are all about. Dinner and dancing featuring music by Brian Francis Baudoin. $17 (advance purchase only) includes Appetizers\; Dinner: BBQ Chicken\, BBQ Sausage\, Beans \, Caesar Salad\, Roll\, Dessert\; and Entertainment. Open to the Public Proceeds Benefit Elks National Foundation charity.
X-ALT-DESC;FMTTYPE=text/html:Come see what Elks are all about. Dinner and dancing featuring music by Brian Francis Baudoin. $17 (advance purchase only) includes Appetizers\; Dinner: BBQ Chicken\, BBQ Sausage\, Beans \, Caesar Salad\, Roll\, Dessert\; and Entertainment. Open to the Public Proceeds Benefit Elks National Foundation charity.
LOCATION:Petaluma Elks Lodge 901 2105 South McDowell Boulevard Petaluma\, CA 94954
UID:e.1308.16346
SEQUENCE:3
DTSTAMP:20260421T235907Z
URL:https://business.petalumachamber.biz/events/details/western-night-16346
END:VEVENT

END:VCALENDAR
