BEGIN:VCALENDAR
VERSION:2.0
PRODID:-//ChamberMaster//Event Calendar 2.0//EN
METHOD:PUBLISH
X-PUBLISHED-TTL:P3D
REFRESH-INTERVAL:P3D
CALSCALE:GREGORIAN
BEGIN:VEVENT
DTSTART:20190904T224500Z
DTEND:20190905T000000Z
X-MICROSOFT-CDO-ALLDAYEVENT:FALSE
SUMMARY:'What's Your Story' Business Workshop
DESCRIPTION:Workshop 4 - 5pm\, stay after to get social! Your market is flooded with people just like you. You've paid good money to create a brand and modernize your website. You've outsourced marketing\, implemented online tools\, and taken courses on sales strategies. Your advertising budget keeps you awake at night. So why does one yoga studio succeed when there are four others in the area? Five contractors bid on the same job\, yet it is won by the least experienced and most expensive. Why? The real estate on the packaging for a snack bar is very small\, yet they use that space to tell you about their child and autism. How are these three examples related? Story. Know how to use it - so it can work for you. There is a reason storytelling is the latest buzzword in Business. It's powerful\, persuasive\, and it works. Workshop by: Kay DeMartini Keynote at Twitter\, Genentech\, AutoDesk\, AKQA\, MHI\, etc. Former advertising manager\, story coach and producer since 2009. NPR storyteller\, Multiple SF Moth winner\, TV Comic. KayDemartini.com
X-ALT-DESC;FMTTYPE=text/html:Workshop 4 - 5pm\, stay after to get social! Your market is flooded with people just like you. You&#39\;ve paid good money to create a brand and modernize your website. You&#39\;ve outsourced marketing\, implemented online tools\, and taken courses on sales strategies. Your advertising budget keeps you awake at night. So why does one yoga studio succeed when there are four others in the area? Five contractors bid on the same job\, yet it is won by the least experienced and most expensive. Why? The real estate on the packaging for a snack bar is very small\, yet they use that space to tell you about their child and autism. How are these three examples related? Story. Know how to use it - so it can work for you. There is a reason storytelling is the latest buzzword in Business. It&rsquo\;s powerful\, persuasive\, and it works. Workshop by: Kay DeMartini Keynote at Twitter\, Genentech\, AutoDesk\, AKQA\, MHI\, etc. Former advertising manager\, story coach and producer since 2009. NPR storyteller\, Multiple SF Moth winner\, TV Comic. KayDemartini.com
LOCATION:Keller St CoWork 140 Keller St Petaluma\, CA 94952
UID:e.1308.13801
SEQUENCE:3
DTSTAMP:20260420T060756Z
URL:https://business.petalumachamber.biz/events/details/what-s-your-story-business-workshop-13801
END:VEVENT

END:VCALENDAR
