BEGIN:VCALENDAR
VERSION:2.0
PRODID:-//ChamberMaster//Event Calendar 2.0//EN
METHOD:PUBLISH
X-PUBLISHED-TTL:P3D
REFRESH-INTERVAL:P3D
CALSCALE:GREGORIAN
BEGIN:VEVENT
DTSTART:20200916T003000Z
DTEND:20200916T013000Z
X-MICROSOFT-CDO-ALLDAYEVENT:FALSE
SUMMARY:Where Women Made History
DESCRIPTION:Where Women Made History: \n\nExploring Sites Associated with Petaluma's Suffrage Movement \n\n \n\nPetaluma Woman's Club presents PWC Speaker Series 2020: Conversations With Women Leaders in Our Community.  The free\, online Zoom is on September 15 from 5:30 pm to 6:30 pm\, and is co-sponsored by Village Network of Petaluma and Mahoney Architects + Interiors.\n\n \n\nJoin local historian and author of Petaluma A History in Architecture\, Katherine J. Rinehart\, as she takes us on a visual tour of sites where suffragists gathered to learn about and plan for their involvement in two political campaigns focused on securing voting rights for California women in 1896 and 1911.\n\n \n\nKatherine will present the history and architecture of several "suffrage sites"\, discuss her research strategies and share some surprising discoveries made while assisting in the curation of the Petaluma Historical Museum's current exhibit on women's suffrage https://www.petalumamuseum.com/petalumas-participation-in-the-womens-suffrage-movement/\n\n \n\nPlease RSVP to receive the Zoom link or call-in number by calling 707 776-6055 or email info@villagenetworkofpetaluma.org .
X-ALT-DESC;FMTTYPE=text/html:<strong><span style="font-size:14pt">Where Women Made History:&nbsp\;</span></strong><br />\n<strong><span style="font-size:14pt">Exploring Sites Associated with Petaluma&rsquo\;s Suffrage Movement&nbsp\;</span></strong><br />\n&nbsp\;<br />\n<span style="font-size:14pt">Petaluma Woman&rsquo\;s Club&nbsp\;presents PWC Speaker Series 2020: Conversations With Women Leaders in Our Community.&nbsp\;&nbsp\;The free\, online Zoom is on September 15 from 5:30 pm to 6:30 pm\, and is co-sponsored by&nbsp\;Village Network of Petaluma and Mahoney Architects + Interiors.</span><br />\n&nbsp\;<br />\n<span style="font-size:14pt">Join local historian and author of&nbsp\;<em>Petaluma A History in Architecture</em>\, Katherine J. Rinehart\, as she takes us on a visual tour of sites where suffragists gathered to learn about and plan for their involvement in two political campaigns focused on securing voting rights for California women in 1896 and 1911.</span><br />\n&nbsp\;<br />\n<span style="font-size:14pt">Katherine will present the history and architecture of several &ldquo\;suffrage sites&rdquo\;\, discuss her research strategies and share some surprising discoveries made while assisting in the curation of the Petaluma Historical Museum&rsquo\;s current exhibit on women&rsquo\;s suffrage&nbsp\;</span><a href="https://www.petalumamuseum.com/petalumas-participation-in-the-womens-suffrage-movement/" style="color:rgb(149\, 79\, 114)\;">https://www.petalumamuseum.com/petalumas-participation-in-the-womens-suffrage-movement/</a><br />\n&nbsp\;<br />\n<span style="font-size:14pt">Please RSVP to receive the Zoom link or call-in number by calling 707 776-6055 or email&nbsp\;</span><span style="font-size:14pt">info@villagenetworkofpetaluma.org</span><span style="font-size:14pt">&nbsp\;.</span>
LOCATION:Free online Zoom. RSVP for the link or call-in number.
UID:e.1308.14111
SEQUENCE:3
DTSTAMP:20260421T022022Z
URL:https://business.petalumachamber.biz/events/details/where-women-made-history-14111
END:VEVENT

END:VCALENDAR
