BEGIN:VCALENDAR
VERSION:2.0
PRODID:-//ChamberMaster//Event Calendar 2.0//EN
METHOD:PUBLISH
X-PUBLISHED-TTL:P3D
REFRESH-INTERVAL:P3D
CALSCALE:GREGORIAN
BEGIN:VEVENT
DTSTART:20200219T210000Z
DTEND:20200219T223000Z
X-MICROSOFT-CDO-ALLDAYEVENT:FALSE
SUMMARY:Why Do I Need a REAL ID?
DESCRIPTION:What is a REAL ID? Why do I need one and how soon? What documents will I need to bring to the DMV? We will get the answers to these questions and also discuss other driving and license issues of importance to older drivers. RSVP by February 12 to info@VillageNetworkofPetaluma.org or 707-776-6055.  Open to Village members\, volunteers\, and the public.\n\nPresenter Jerrod Sieberg has been employed by the DMV for 23 years\, and now serves as the Senior Driver Ombudsman.
X-ALT-DESC;FMTTYPE=text/html:<span style="color:black\; font-family:helvetica\; font-size:14pt">What is a REAL ID? Why do I need one and how soon? What documents will I need to bring to the DMV? We will get the answers to these questions and also discuss other driving and license issues of importance to older drivers. RSVP by February 12 to&nbsp\;</span><span style="color:rgb(19\, 116\, 31)\; font-family:helvetica\; font-size:14pt"><u><span style="color:mediumblue">info@VillageNetworkofPetaluma.org</span></u></span><span style="color:black\; font-family:helvetica\; font-size:14pt">&nbsp\;or 707-776-6055.&nbsp\; Open to Village members\, volunteers\, and the public.<br />\n<em>Presenter Jerrod Sieberg has been employed by the DMV for 23 years\, and now serves as the Senior Driver Ombudsman.</em></span><br />\n&nbsp\;
LOCATION:Petaluma Regional Library\, 100 Fairgrounds Drive.\, Petaluma
UID:e.1308.14055
SEQUENCE:3
DTSTAMP:20260420T160754Z
URL:https://business.petalumachamber.biz/events/details/why-do-i-need-a-real-id-14055
END:VEVENT

END:VCALENDAR
