BEGIN:VCALENDAR
VERSION:2.0
PRODID:-//ChamberMaster//Event Calendar 2.0//EN
METHOD:PUBLISH
X-PUBLISHED-TTL:P3D
REFRESH-INTERVAL:P3D
CALSCALE:GREGORIAN
BEGIN:VEVENT
DTSTART:20181206T013000Z
DTEND:20181206T033000Z
X-MICROSOFT-CDO-ALLDAYEVENT:FALSE
SUMMARY:Women in Business Evening Social
DESCRIPTION:Women in Business Evening Social\n\n \n\nCome enjoy a relaxing and fun evening with Petaluma Chamber's Women in Business committee at Hotel Petaluma lobby on Wednesday\, December 5 from 5:30 to 7:30 pm. Barber Cellars will have their wine available for purchase\, and the Committee will provide delicious hors d'oeuvres. Chamber members are free\; non-members pay a $5 donation.\n\n \n\nAlso\, enjoy some holiday shopping at the on-site Truck and Barter shop and Barber Cellars.
X-ALT-DESC;FMTTYPE=text/html:<strong>Women in Business Evening Social</strong><br />\n&nbsp\;<br />\nCome enjoy a relaxing and fun evening with Petaluma Chamber&rsquo\;s Women in Business committee at Hotel Petaluma lobby on Wednesday\, December 5 from 5:30 to 7:30 pm.&nbsp\;Barber Cellars will have their&nbsp\;wine available for purchase\,&nbsp\;and the Committee will provide delicious hors d&rsquo\;oeuvres.&nbsp\;Chamber members are free\; non-members pay a $5 donation.<br />\n&nbsp\;<br />\nAlso\, enjoy some holiday shopping at the on-site Truck and Barter shop and Barber Cellars.
LOCATION:Hotel Petaluma\, 205 Kentucky Street\, Petaluma
UID:e.1308.12836
SEQUENCE:3
DTSTAMP:20260419T144004Z
URL:https://business.petalumachamber.biz/events/details/women-in-business-evening-social-12836
END:VEVENT

END:VCALENDAR
