BEGIN:VCALENDAR
VERSION:2.0
PRODID:-//ChamberMaster//Event Calendar 2.0//EN
METHOD:PUBLISH
X-PUBLISHED-TTL:P3D
REFRESH-INTERVAL:P3D
CALSCALE:GREGORIAN
BEGIN:VEVENT
DTSTART:20210922T223000Z
DTEND:20210923T040000Z
X-MICROSOFT-CDO-ALLDAYEVENT:FALSE
SUMMARY:Women in Conversation Experience: Olympic Gold Medalists
DESCRIPTION:We are excited to announce our next Women in Conversation event featuring three Bay Area local Olympic gold medalists\, Kristi Yamaguchi\, Brandi Chastain\, and Kerri Walsh Jennings. The Experience - 3:30 to 6:30 pm Mingle\, taste\, and explore. Join us for an afternoon on the green to celebrate\, inspire\, and empower local women from all backgrounds   Including dozens of exhibitors\, plus demonstrations\, activities\, and food trucks. Women in Conversation - 7:00 to 9:00 pm Three Olympic gold medalists. Three inspiring stories. One amazing evening. Kristi Yamaguchi: A former American figure skater\, Yamaguchi is an Olympic gold medalist\, two-time world Champion and the 1992 U.S. Champion. In 1992\, she became the first Asian American woman to win a gold medal in a Winter Olympic competition. Kerri Walsh Jennings: An American professional beach volleyball player\, Walsh-Jennings is a three-time Olympic gold medalist\, one-time Olympic bronze medalist\, and three-time World Champion. In 2016 she became the most decorated Beach Volleyball Olympian of all-time and currently holds the title of Winningest Female Beach Volleyball Player with 133 career wins. Brandi Chastain: An American retired soccer player\, Chastain is a two-time Women's World Cup champion\, two-time Olympic gold-medalist\, and a two-time All-American. In 1999\, she was named one of People Magazine's 25 Most Intriguing People and one of Street & Smith's 100 Most Powerful People in Sports after peeling off her jersey in celebration of her winning kick in the Women's World Cup.\\
X-ALT-DESC;FMTTYPE=text/html:We are excited to announce our next Women in Conversation event featuring three Bay Area local Olympic gold medalists\, Kristi Yamaguchi\, Brandi Chastain\, and Kerri Walsh Jennings. The Experience - 3:30 to 6:30 pm Mingle\, taste\, and explore. Join us for an afternoon on the green to celebrate\, inspire\, and empower local women from all backgrounds &ndash\; Including dozens of exhibitors\, plus demonstrations\, activities\, and food trucks. Women in Conversation - 7:00 to 9:00 pm Three Olympic gold medalists. Three inspiring stories. One amazing evening. Kristi Yamaguchi: A former American figure skater\, Yamaguchi is an Olympic gold medalist\, two-time world Champion and the 1992 U.S. Champion. In 1992\, she became the first Asian American woman to win a gold medal in a Winter Olympic competition. Kerri Walsh Jennings: An American professional beach volleyball player\, Walsh-Jennings is a three-time Olympic gold medalist\, one-time Olympic bronze medalist\, and three-time World Champion. In 2016 she became the most decorated Beach Volleyball Olympian of all-time and currently holds the title of Winningest Female Beach Volleyball Player with 133 career wins. Brandi Chastain: An American retired soccer player\, Chastain is a two-time Women&rsquo\;s World Cup champion\, two-time Olympic gold-medalist\, and a two-time All-American. In 1999\, she was named one of People Magazine&#39\;s 25 Most Intriguing People and one of Street &amp\; Smith&#39\;s 100 Most Powerful People in Sports after peeling off her jersey in celebration of her winning kick in the Women&rsquo\;s World Cup.\\
LOCATION:Green Music Center 1801 East Cotati Avenue Rohnert Park\, CA 94928
UID:e.1308.16345
SEQUENCE:3
DTSTAMP:20260421T222206Z
URL:https://business.petalumachamber.biz/events/details/women-in-conversation-experience-olympic-gold-medalists-16345
END:VEVENT

END:VCALENDAR
