BEGIN:VCALENDAR
VERSION:2.0
PRODID:-//ChamberMaster//Event Calendar 2.0//EN
METHOD:PUBLISH
X-PUBLISHED-TTL:P3D
REFRESH-INTERVAL:P3D
CALSCALE:GREGORIAN
BEGIN:VEVENT
DTSTART:20211106T233000Z
DTEND:20211107T033000Z
X-MICROSOFT-CDO-ALLDAYEVENT:FALSE
SUMMARY:Women In Conversation - Laura Dern
DESCRIPTION:Join us at the Luther Burbank Center for the Arts on Saturday\, November 6th for an unforgettable and inspiring evening at our next Women in Conversation event featuring Laura Dern\, 2020 Academy Award-Winner Best Supporting Actress\, Producer and Activist. 4:30 PM   6:30 PM Mix and mingle\, and nosh 6:30 PM   8:30 PM Conversation with Laura Dern
X-ALT-DESC;FMTTYPE=text/html:Join us at the Luther Burbank Center for the Arts on Saturday\, November 6th for an unforgettable and inspiring evening at our next Women in Conversation event featuring Laura Dern\, 2020 Academy Award-Winner Best Supporting Actress\, Producer and Activist. 4:30 PM &ndash\; 6:30 PM Mix and mingle\, and nosh 6:30 PM &ndash\; 8:30 PM Conversation with Laura Dern
LOCATION:Luther Burbank Center for the Arts 50 Mark West Springs Road Santa Rosa\, CA 95403
UID:e.1308.16357
SEQUENCE:3
DTSTAMP:20260422T013459Z
URL:https://business.petalumachamber.biz/events/details/women-in-conversation-laura-dern-16357
END:VEVENT

END:VCALENDAR
