BEGIN:VCALENDAR
VERSION:2.0
PRODID:-//ChamberMaster//Event Calendar 2.0//EN
METHOD:PUBLISH
X-PUBLISHED-TTL:P3D
REFRESH-INTERVAL:P3D
CALSCALE:GREGORIAN
BEGIN:VEVENT
DTSTART:20200321T163000Z
DTEND:20200321T193000Z
X-MICROSOFT-CDO-ALLDAYEVENT:FALSE
SUMMARY:Yoga Workshop with Amanda Giacomini and 10\,000 Buddhas
DESCRIPTION:DESCRIPTION: Join us for yoga\, meditation\, and storytelling. Discover the magic of this rejuvenating\, healing wellness ritual. This experience will allow you to embody relaxation\, inspiration\, and peace of mind. Amanda will guide a series of slow gentle yoga postures (yin) that are perfect for all levels. These special wellness practices will help heal and bless your body\, mind\, and heart. The experience includes 90 minutes of gentle yoga\, storytelling in the Victorian\, and wine & bites in the Pavilion to follow. Every guest will receive a $10.00 credit to use in the Ranch Tasting Room on the day of the event (more wine\, anyone?). DATE: March 21\, 2020 9:30 AM - 12:30 PM PRICE: Public: $85 | Social Club Members: $72.25
X-ALT-DESC;FMTTYPE=text/html:DESCRIPTION: Join us for yoga\, meditation\, and storytelling. Discover the magic of this rejuvenating\, healing wellness ritual. This experience will allow you to embody relaxation\, inspiration\, and peace of mind. Amanda will guide a series of slow gentle yoga postures (yin) that are perfect for all levels. These special wellness practices will help heal and bless your body\, mind\, and heart. The experience includes 90 minutes of gentle yoga\, storytelling in the Victorian\, and wine &amp\; bites in the Pavilion to follow. Every guest will receive a $10.00 credit to use in the Ranch Tasting Room on the day of the event (more wine\, anyone?). DATE: March 21\, 2020 9:30 AM - 12:30 PM PRICE: Public: $85 | Social Club Members: $72.25
LOCATION:McEvoy Ranch 5935 Red Hill Road Petaluma\, CA 94953
UID:e.1308.14071
SEQUENCE:3
DTSTAMP:20260420T162540Z
URL:https://business.petalumachamber.biz/events/details/yoga-workshop-with-amanda-giacomini-and-10-000-buddhas-14071
END:VEVENT

END:VCALENDAR
